FILENAME: O4710823.NWS.1116406.tif
QUADRANGLE_NAME: LAKE RESERVOIR
QUADRANT: NW
WEST_LONGITUDE: -108 15 0.00000
EAST_LONGITUDE: -108 11 15.00000
NORTH_LATITUDE: 47 45 0.00000
SOUTH_LATITUDE: 47 41 15.00000
PRODUCTION_DATE: 2000 10 30
RASTER_ORDER: LEFT_RIGHT/TOP_BOTTOM
BAND_ORGANIZATION: SINGLE FILE
BAND_CONTENT: BLACK&WHITE
BAND_CONTENT: UNDEFINED
BAND_CONTENT: UNDEFINED
BITS_PER_PIXEL: 8
SAMPLES_AND_LINES: 5590 7719
HORIZONTAL_DATUM: NAD83
HORIZONTAL_COORDINATE_SYSTEM: UTM
COORDINATE_ZONE: 12
HORIZONTAL_UNITS: METERS
HORIZONTAL_RESOLUTION: 1.00000
SECONDARY_HORIZONTAL_DATUM: NAD27
XY_ORIGIN: 705767.00000 5292646.00000
SECONDARY_XY_ORIGIN: 705824.47000 5292429.31200
NATION: US
NATION: "SCIENCE
STATE: MT
NW_QUAD_CORNER_XY: 706119.25600 5292177.21000
NE_QUAD_CORNER_XY: 710803.43000 5292345.65300
SE_QUAD_CORNERY_XY: 711055.87600 5285400.16700
SW_QUAD_CORNER_XY: 706366.08400 5285231.68900
SECONDARY_NW_QUAD_XY: 706125.71000 5291958.51100
SECONDARY_NE_QUAD_XY: 710810.03100 5292126.95900
SECONDARY_SE_QUAD_XY: 711062.47600 5285181.49100
SECONDARY_SW_QUAD_XY: 706372.53700 5285013.00800
RMSE_XY: 0.90000
IMAGE_SOURCE: BLACK AND WHITE FILM
SOURCE_IMAGE_ID: NAPP 9143 178
SOURCE_IMAGE_DATE: 1996 08 24
SOURCE_DEM_DATE: 1964 00 00
AGENCY: WESTERN MAPPING CENTER (WMC)
PRODUCER: UNDEFINED
PRODUCTION_SYSTEM: GIS/MAGIC
COMPRESSION: UNDEFINED
STANDARD_VERSION: 1996 12
METADATA_DATE: 2000 11 14
DATA_FILE_SIZE: 43154800
BYTE_COUNT: 5590
