FILENAME: O4710824.NES.1116509.tif
QUADRANGLE_NAME: KARSTEN COULEE
QUADRANT: NE
WEST_LONGITUDE: -108 3 45.00000
EAST_LONGITUDE: -108 0 0.00000
NORTH_LATITUDE: 47 45 0.00000
SOUTH_LATITUDE: 47 41 15.00000
PRODUCTION_DATE: 2000 10 30
RASTER_ORDER: LEFT_RIGHT/TOP_BOTTOM
BAND_ORGANIZATION: SINGLE FILE
BAND_CONTENT: BLACK&WHITE
BAND_CONTENT: UNDEFINED
BAND_CONTENT: UNDEFINED
BITS_PER_PIXEL: 8
SAMPLES_AND_LINES: 5607 7730
HORIZONTAL_DATUM: NAD83
HORIZONTAL_COORDINATE_SYSTEM: UTM
COORDINATE_ZONE: 12
HORIZONTAL_UNITS: METERS
HORIZONTAL_RESOLUTION: 1.00000
SECONDARY_HORIZONTAL_DATUM: NAD27
XY_ORIGIN: 719820.00000 5293174.00000
SECONDARY_XY_ORIGIN: 719877.54900 5292957.54700
NATION: US
NATION: "SCIENCE
STATE: MT
NW_QUAD_CORNER_XY: 720171.70600 5292693.91100
NE_QUAD_CORNER_XY: 724855.80700 5292873.72700
SE_QUAD_CORNERY_XY: 725125.10700 5285928.34900
SW_QUAD_CORNER_XY: 720435.38800 5285748.49600
SECONDARY_NW_QUAD_XY: 720178.60000 5292475.22800
SECONDARY_NE_QUAD_XY: 724862.84800 5292655.04900
SECONDARY_SE_QUAD_XY: 725132.14800 5285709.69000
SECONDARY_SW_QUAD_XY: 720442.28100 5285529.83200
RMSE_XY: 1.40000
IMAGE_SOURCE: BLACK AND WHITE FILM
SOURCE_IMAGE_ID: NAPP 9142 109
SOURCE_IMAGE_DATE: 1996 08 24
SOURCE_DEM_DATE: 1964 00 00
AGENCY: WESTERN MAPPING CENTER (WMC)
PRODUCER: UNDEFINED
PRODUCTION_SYSTEM: GIS/MAGIC
COMPRESSION: UNDEFINED
STANDARD_VERSION: 1996 12
METADATA_DATE: 2000 11 14
DATA_FILE_SIZE: 43347717
BYTE_COUNT: 5607
