FILENAME: O4710826.SWS.1082521.tif
QUADRANGLE_NAME: MITCHELL CROSSING
QUADRANT: SW
WEST_LONGITUDE: -108 52 30.00000
EAST_LONGITUDE: -108 48 45.00000
NORTH_LATITUDE: 47 33 45.00000
SOUTH_LATITUDE: 47 30 0.00000
PRODUCTION_DATE: 2000 6 8
RASTER_ORDER: LEFT_RIGHT/TOP_BOTTOM
BAND_ORGANIZATION: SINGLE FILE
BAND_CONTENT: BLACK&WHITE
BAND_CONTENT: UNDEFINED
BAND_CONTENT: UNDEFINED
BITS_PER_PIXEL: 8
SAMPLES_AND_LINES: 5553 7682
HORIZONTAL_DATUM: NAD83
HORIZONTAL_COORDINATE_SYSTEM: UTM
COORDINATE_ZONE: 12
HORIZONTAL_UNITS: METERS
HORIZONTAL_RESOLUTION: 1.00000
SECONDARY_HORIZONTAL_DATUM: NAD27
XY_ORIGIN: 659493.00000 5270295.00000
SECONDARY_XY_ORIGIN: 659551.68100 5270079.40800
NATION: US
NATION: "SCIENCE
STATE: MT
NW_QUAD_CORNER_XY: 659847.77800 5269863.90800
NE_QUAD_CORNER_XY: 664548.98500 5269994.54200
SE_QUAD_CORNERY_XY: 664744.68700 5263048.93800
SW_QUAD_CORNER_XY: 660037.88400 5262918.27900
SECONDARY_NW_QUAD_XY: 659852.76400 5269645.22000
SECONDARY_NE_QUAD_XY: 664554.11600 5269775.85800
SECONDARY_SE_QUAD_XY: 664749.81800 5262830.27500
SECONDARY_SW_QUAD_XY: 660042.86900 5262699.61200
RMSE_XY: 3.20000
IMAGE_SOURCE: BLACK AND WHITE FILM
SOURCE_IMAGE_ID: NAPP 9157 062
SOURCE_IMAGE_DATE: 1997 09 05
SOURCE_IMAGE_ID: NAPP 9147 118
SOURCE_IMAGE_DATE: 1996 08 24
SOURCE_IMAGE_ID: NAPP 9157 063
SOURCE_IMAGE_DATE: 1997 09 05
SOURCE_DEM_DATE: 1988 00 00
AGENCY: WESTERN MAPPING CENTER (WMC)
PRODUCER: UNDEFINED
PRODUCTION_SYSTEM: GIS/MAGIC
COMPRESSION: UNDEFINED
STANDARD_VERSION: 1996 12
METADATA_DATE: 2000 06 15
DATA_FILE_SIZE: 42663699
BYTE_COUNT: 5553
