FILENAME: O4710827.SWS.1083018.tif
QUADRANGLE_NAME: HESSLER RIDGE
QUADRANT: SW
WEST_LONGITUDE: -108 45 0.00000
EAST_LONGITUDE: -108 41 15.00000
NORTH_LATITUDE: 47 33 45.00000
SOUTH_LATITUDE: 47 30 0.00000
PRODUCTION_DATE: 2000 6 8
RASTER_ORDER: LEFT_RIGHT/TOP_BOTTOM
BAND_ORGANIZATION: SINGLE FILE
BAND_CONTENT: BLACK&WHITE
BAND_CONTENT: UNDEFINED
BAND_CONTENT: UNDEFINED
BITS_PER_PIXEL: 8
SAMPLES_AND_LINES: 5565 7690
HORIZONTAL_DATUM: NAD83
HORIZONTAL_COORDINATE_SYSTEM: UTM
COORDINATE_ZONE: 12
HORIZONTAL_UNITS: METERS
HORIZONTAL_RESOLUTION: 1.00000
SECONDARY_HORIZONTAL_DATUM: NAD27
XY_ORIGIN: 668895.00000 5270568.00000
SECONDARY_XY_ORIGIN: 668953.63100 5270352.24900
NATION: US
NATION: "SCIENCE
STATE: MT
NW_QUAD_CORNER_XY: 669250.17300 5270128.96500
NE_QUAD_CORNER_XY: 673951.34400 5270267.17900
SE_QUAD_CORNERY_XY: 674158.24000 5263321.62800
SW_QUAD_CORNER_XY: 669451.47200 5263183.38700
SECONDARY_NW_QUAD_XY: 669255.45200 5269910.28600
SECONDARY_NE_QUAD_XY: 673956.77000 5270048.50400
SECONDARY_SE_QUAD_XY: 674163.66400 5263102.97400
SECONDARY_SW_QUAD_XY: 669456.75000 5262964.72900
RMSE_XY: 2.70000
IMAGE_SOURCE: BLACK AND WHITE FILM
SOURCE_IMAGE_ID: NAPP 9144 268
SOURCE_IMAGE_DATE: 1996 08 25
SOURCE_IMAGE_ID: NAPP 9144 267
SOURCE_IMAGE_DATE: 1996 08 25
SOURCE_DEM_DATE: 1976 00 00
AGENCY: WESTERN MAPPING CENTER (WMC)
PRODUCER: UNDEFINED
PRODUCTION_SYSTEM: GIS/MAGIC
COMPRESSION: UNDEFINED
STANDARD_VERSION: 1996 12
METADATA_DATE: 2000 06 15
DATA_FILE_SIZE: 42800415
BYTE_COUNT: 5565
