FILENAME: O4710827.NES.1083015.tif
QUADRANGLE_NAME: HESSLER RIDGE
QUADRANT: NE
WEST_LONGITUDE: -108 41 15.00000
EAST_LONGITUDE: -108 37 30.00000
NORTH_LATITUDE: 47 37 30.00000
SOUTH_LATITUDE: 47 33 45.00000
PRODUCTION_DATE: 2000 6 8
RASTER_ORDER: LEFT_RIGHT/TOP_BOTTOM
BAND_ORGANIZATION: SINGLE FILE
BAND_CONTENT: BLACK&WHITE
BAND_CONTENT: UNDEFINED
BAND_CONTENT: UNDEFINED
BITS_PER_PIXEL: 8
SAMPLES_AND_LINES: 5564 7693
HORIZONTAL_DATUM: NAD83
HORIZONTAL_COORDINATE_SYSTEM: UTM
COORDINATE_ZONE: 12
HORIZONTAL_UNITS: METERS
HORIZONTAL_RESOLUTION: 1.00000
SECONDARY_HORIZONTAL_DATUM: NAD27
XY_ORIGIN: 673390.00000 5277655.00000
SECONDARY_XY_ORIGIN: 673448.57400 5277439.02200
NATION: US
NATION: "SCIENCE
STATE: MT
NW_QUAD_CORNER_XY: 673744.24100 5277212.79400
NE_QUAD_CORNER_XY: 678439.79100 5277354.77100
SE_QUAD_CORNERY_XY: 678652.49700 5270409.18300
SW_QUAD_CORNER_XY: 673951.34400 5270267.17900
SECONDARY_NW_QUAD_XY: 673749.66700 5276994.09900
SECONDARY_NE_QUAD_XY: 678445.36300 5277136.08000
SECONDARY_SE_QUAD_XY: 678658.06900 5270190.51300
SECONDARY_SW_QUAD_XY: 673956.77000 5270048.50400
RMSE_XY: 1.70000
IMAGE_SOURCE: BLACK AND WHITE FILM
SOURCE_IMAGE_ID: NAPP 9144 173
SOURCE_IMAGE_DATE: 1996 08 25
SOURCE_IMAGE_ID: NAPP 9144 172
SOURCE_IMAGE_DATE: 1996 08 25
SOURCE_IMAGE_ID: NAPP 9144 174
SOURCE_IMAGE_DATE: 1996 08 25
SOURCE_DEM_DATE: 1976 00 00
AGENCY: WESTERN MAPPING CENTER (WMC)
PRODUCER: UNDEFINED
PRODUCTION_SYSTEM: GIS/MAGIC
COMPRESSION: UNDEFINED
STANDARD_VERSION: 1996 12
METADATA_DATE: 2000 06 15
DATA_FILE_SIZE: 42809416
BYTE_COUNT: 5564
