FILENAME: O4710830.NWS.1114579.tif
QUADRANGLE_NAME: HANSON FLAT
QUADRANT: NW
WEST_LONGITUDE: -108 22 30.00000
EAST_LONGITUDE: -108 18 45.00000
NORTH_LATITUDE: 47 37 30.00000
SOUTH_LATITUDE: 47 33 45.00000
PRODUCTION_DATE: 2000 11 9
RASTER_ORDER: LEFT_RIGHT/TOP_BOTTOM
BAND_ORGANIZATION: SINGLE FILE
BAND_CONTENT: BLACK&WHITE
BAND_CONTENT: UNDEFINED
BAND_CONTENT: UNDEFINED
BITS_PER_PIXEL: 8
SAMPLES_AND_LINES: 5590 7712
HORIZONTAL_DATUM: NAD83
HORIZONTAL_COORDINATE_SYSTEM: UTM
COORDINATE_ZONE: 12
HORIZONTAL_UNITS: METERS
HORIZONTAL_RESOLUTION: 1.00000
SECONDARY_HORIZONTAL_DATUM: NAD27
XY_ORIGIN: 696869.00000 5278422.00000
SECONDARY_XY_ORIGIN: 696926.85500 5278205.59500
NATION: US
NATION: "SCIENCE
STATE: MT
NW_QUAD_CORNER_XY: 697221.79100 5277960.57700
NE_QUAD_CORNER_XY: 701917.23900 5278121.50600
SE_QUAD_CORNERY_XY: 702157.96700 5271176.06900
SW_QUAD_CORNER_XY: 697456.91400 5271015.10900
SECONDARY_NW_QUAD_XY: 697227.95000 5277741.90500
SECONDARY_NE_QUAD_XY: 701923.54500 5277902.83900
SECONDARY_SE_QUAD_XY: 702164.27200 5270957.42200
SECONDARY_SW_QUAD_XY: 697463.07200 5270796.45700
RMSE_XY: 2.00000
IMAGE_SOURCE: BLACK AND WHITE FILM
SOURCE_IMAGE_ID: NAPP 9143 268
SOURCE_IMAGE_DATE: 1996 08 24
SOURCE_DEM_DATE: 1970 00 00
AGENCY: WESTERN MAPPING CENTER (WMC)
PRODUCER: UNDEFINED
PRODUCTION_SYSTEM: GIS/MAGIC
COMPRESSION: UNDEFINED
STANDARD_VERSION: 1996 12
METADATA_DATE: 2000 11 30
DATA_FILE_SIZE: 43115670
BYTE_COUNT: 5590
