FILENAME: O4710831.SES.1116411.tif
QUADRANGLE_NAME: DRY COULEE
QUADRANT: SE
WEST_LONGITUDE: -108 11 15.00000
EAST_LONGITUDE: -108 7 30.00000
NORTH_LATITUDE: 47 33 45.00000
SOUTH_LATITUDE: 47 30 0.00000
PRODUCTION_DATE: 2000 10 30
RASTER_ORDER: LEFT_RIGHT/TOP_BOTTOM
BAND_ORGANIZATION: SINGLE FILE
BAND_CONTENT: BLACK&WHITE
BAND_CONTENT: UNDEFINED
BAND_CONTENT: UNDEFINED
BITS_PER_PIXEL: 8
SAMPLES_AND_LINES: 5612 7723
HORIZONTAL_DATUM: NAD83
HORIZONTAL_COORDINATE_SYSTEM: UTM
COORDINATE_ZONE: 12
HORIZONTAL_UNITS: METERS
HORIZONTAL_RESOLUTION: 1.00000
SECONDARY_HORIZONTAL_DATUM: NAD27
XY_ORIGIN: 711208.00000 5271982.00000
SECONDARY_XY_ORIGIN: 711265.51200 5271765.61300
NATION: US
NATION: "SCIENCE
STATE: MT
NW_QUAD_CORNER_XY: 711560.00800 5271509.36700
NE_QUAD_CORNER_XY: 716260.99500 5271681.70400
SE_QUAD_CORNERY_XY: 716518.28300 5264736.42400
SW_QUAD_CORNER_XY: 711811.69500 5264564.05300
SECONDARY_NW_QUAD_XY: 711566.60700 5271290.73000
SECONDARY_NE_QUAD_XY: 716267.74100 5271463.07400
SECONDARY_SE_QUAD_XY: 716525.02800 5264517.81500
SECONDARY_SW_QUAD_XY: 711818.29300 5264345.43800
RMSE_XY: 2.20000
IMAGE_SOURCE: BLACK AND WHITE FILM
SOURCE_IMAGE_ID: NAPP 9143 087
SOURCE_IMAGE_DATE: 1996 08 24
SOURCE_DEM_DATE: 1964 00 00
AGENCY: WESTERN MAPPING CENTER (WMC)
PRODUCER: UNDEFINED
PRODUCTION_SYSTEM: GIS/MAGIC
COMPRESSION: UNDEFINED
STANDARD_VERSION: 1996 12
METADATA_DATE: 2000 11 14
DATA_FILE_SIZE: 43347088
BYTE_COUNT: 5612
