FILENAME: O4710832.SWS.1116516.tif
QUADRANGLE_NAME: CHAIN BUTTES
QUADRANT: SW
WEST_LONGITUDE: -108 7 30.00000
EAST_LONGITUDE: -108 3 45.00000
NORTH_LATITUDE: 47 33 45.00000
SOUTH_LATITUDE: 47 30 0.00000
PRODUCTION_DATE: 2000 10 30
RASTER_ORDER: LEFT_RIGHT/TOP_BOTTOM
BAND_ORGANIZATION: SINGLE FILE
BAND_CONTENT: BLACK&WHITE
BAND_CONTENT: UNDEFINED
BAND_CONTENT: UNDEFINED
BITS_PER_PIXEL: 8
SAMPLES_AND_LINES: 5617 7726
HORIZONTAL_DATUM: NAD83
HORIZONTAL_COORDINATE_SYSTEM: UTM
COORDINATE_ZONE: 12
HORIZONTAL_UNITS: METERS
HORIZONTAL_RESOLUTION: 1.00000
SECONDARY_HORIZONTAL_DATUM: NAD27
XY_ORIGIN: 715909.00000 5272158.00000
SECONDARY_XY_ORIGIN: 715966.54900 5271941.61300
NATION: US
NATION: "SCIENCE
STATE: MT
NW_QUAD_CORNER_XY: 716260.99500 5271681.70400
NE_QUAD_CORNER_XY: 720961.96000 5271857.83600
SE_QUAD_CORNERY_XY: 721224.84900 5264912.58900
SW_QUAD_CORNER_XY: 716518.28300 5264736.42400
SECONDARY_NW_QUAD_XY: 716267.74100 5271463.07400
SECONDARY_NE_QUAD_XY: 720968.85200 5271639.21000
SECONDARY_SE_QUAD_XY: 721231.74000 5264693.98500
SECONDARY_SW_QUAD_XY: 716525.02800 5264517.81500
RMSE_XY: 2.60000
IMAGE_SOURCE: BLACK AND WHITE FILM
SOURCE_IMAGE_ID: NAPP 9142 200
SOURCE_IMAGE_DATE: 1996 08 24
SOURCE_DEM_DATE: 1964 00 00
AGENCY: WESTERN MAPPING CENTER (WMC)
PRODUCER: UNDEFINED
PRODUCTION_SYSTEM: GIS/MAGIC
COMPRESSION: UNDEFINED
STANDARD_VERSION: 1996 12
METADATA_DATE: 2000 11 14
DATA_FILE_SIZE: 43402559
BYTE_COUNT: 5617
