FILENAME: O4710833.SWS.1118048.tif
QUADRANGLE_NAME: ROY NW
QUADRANT: SW
WEST_LONGITUDE: -109 0 0.00000
EAST_LONGITUDE: -108 56 15.00000
NORTH_LATITUDE: 47 26 15.00000
SOUTH_LATITUDE: 47 22 30.00000
PRODUCTION_DATE: 2000 11 2
RASTER_ORDER: LEFT_RIGHT/TOP_BOTTOM
BAND_ORGANIZATION: SINGLE FILE
BAND_CONTENT: BLACK&WHITE
BAND_CONTENT: UNDEFINED
BAND_CONTENT: UNDEFINED
BITS_PER_PIXEL: 8
SAMPLES_AND_LINES: 5554 7675
HORIZONTAL_DATUM: NAD83
HORIZONTAL_COORDINATE_SYSTEM: UTM
COORDINATE_ZONE: 12
HORIZONTAL_UNITS: METERS
HORIZONTAL_RESOLUTION: 1.00000
SECONDARY_HORIZONTAL_DATUM: NAD27
XY_ORIGIN: 650447.00000 5256146.00000
SECONDARY_XY_ORIGIN: 650505.73200 5255930.80500
NATION: US
NATION: "SCIENCE
STATE: MT
NW_QUAD_CORNER_XY: 650802.96500 5255722.72200
NE_QUAD_CORNER_XY: 655515.39000 5255845.82300
SE_QUAD_CORNERY_XY: 655699.52800 5248900.30300
SW_QUAD_CORNER_XY: 650981.51900 5248777.17900
SECONDARY_NW_QUAD_XY: 650807.65600 5255504.06900
SECONDARY_NE_QUAD_XY: 655520.22700 5255627.17500
SECONDARY_SE_QUAD_XY: 655704.36500 5248681.67700
SECONDARY_SW_QUAD_XY: 650986.21000 5248558.54900
RMSE_XY: 1.90000
IMAGE_SOURCE: BLACK AND WHITE FILM
SOURCE_IMAGE_ID: NAPP 9147 218
SOURCE_IMAGE_DATE: 1996 08 24
SOURCE_DEM_DATE: 1978 00 00
AGENCY: WESTERN MAPPING CENTER (WMC)
PRODUCER: UNDEFINED
PRODUCTION_SYSTEM: GIS/MAGIC
COMPRESSION: UNDEFINED
STANDARD_VERSION: 1996 12
METADATA_DATE: 2000 11 14
DATA_FILE_SIZE: 42632504
BYTE_COUNT: 5554
