FILENAME: O4710837.SWS.1118245.tif
QUADRANGLE_NAME: PIPES COULEE
QUADRANT: SW
WEST_LONGITUDE: -108 30 0.00000
EAST_LONGITUDE: -108 26 15.00000
NORTH_LATITUDE: 47 26 15.00000
SOUTH_LATITUDE: 47 22 30.00000
PRODUCTION_DATE: 2000 10 30
RASTER_ORDER: LEFT_RIGHT/TOP_BOTTOM
BAND_ORGANIZATION: SINGLE FILE
BAND_CONTENT: BLACK&WHITE
BAND_CONTENT: UNDEFINED
BAND_CONTENT: UNDEFINED
BITS_PER_PIXEL: 8
SAMPLES_AND_LINES: 5597 7705
HORIZONTAL_DATUM: NAD83
HORIZONTAL_COORDINATE_SYSTEM: UTM
COORDINATE_ZONE: 12
HORIZONTAL_UNITS: METERS
HORIZONTAL_RESOLUTION: 1.00000
SECONDARY_HORIZONTAL_DATUM: NAD27
XY_ORIGIN: 688148.00000 5257268.00000
SECONDARY_XY_ORIGIN: 688206.09900 5257052.18800
NATION: US
NATION: "SCIENCE
STATE: MT
NW_QUAD_CORNER_XY: 688501.89700 5256813.69000
NE_QUAD_CORNER_XY: 693214.18300 5256967.12500
SE_QUAD_CORNERY_XY: 693443.00700 5250021.80800
SW_QUAD_CORNER_XY: 688725.13400 5249868.34500
SECONDARY_NW_QUAD_XY: 688507.76000 5256595.07100
SECONDARY_NE_QUAD_XY: 693220.19300 5256748.51100
SECONDARY_SE_QUAD_XY: 693449.01700 5249803.21700
SECONDARY_SW_QUAD_XY: 688730.99700 5249649.75000
RMSE_XY: 1.20000
IMAGE_SOURCE: BLACK AND WHITE FILM
SOURCE_IMAGE_ID: NAPP 9144 156
SOURCE_IMAGE_DATE: 1996 08 25
SOURCE_DEM_DATE: 1978 00 00
AGENCY: WESTERN MAPPING CENTER (WMC)
PRODUCER: UNDEFINED
PRODUCTION_SYSTEM: GIS/MAGIC
COMPRESSION: UNDEFINED
STANDARD_VERSION: 1996 12
METADATA_DATE: 2000 11 14
DATA_FILE_SIZE: 43130482
BYTE_COUNT: 5597
