FILENAME: O4710837.NES.1118242.tif
QUADRANGLE_NAME: PIPES COULEE
QUADRANT: NE
WEST_LONGITUDE: -108 26 15.00000
EAST_LONGITUDE: -108 22 30.00000
NORTH_LATITUDE: 47 30 0.00000
SOUTH_LATITUDE: 47 26 15.00000
PRODUCTION_DATE: 2000 10 30
RASTER_ORDER: LEFT_RIGHT/TOP_BOTTOM
BAND_ORGANIZATION: SINGLE FILE
BAND_CONTENT: BLACK&WHITE
BAND_CONTENT: UNDEFINED
BAND_CONTENT: UNDEFINED
BITS_PER_PIXEL: 8
SAMPLES_AND_LINES: 5596 7708
HORIZONTAL_DATUM: NAD83
HORIZONTAL_COORDINATE_SYSTEM: UTM
COORDINATE_ZONE: 12
HORIZONTAL_UNITS: METERS
HORIZONTAL_RESOLUTION: 1.00000
SECONDARY_HORIZONTAL_DATUM: NAD27
XY_ORIGIN: 692632.00000 5264370.00000
SECONDARY_XY_ORIGIN: 692689.95600 5264153.92000
NATION: US
NATION: "SCIENCE
STATE: MT
NW_QUAD_CORNER_XY: 692985.12700 5263912.50200
NE_QUAD_CORNER_XY: 697691.80000 5264069.70100
SE_QUAD_CORNERY_XY: 697926.44900 5257124.35300
SW_QUAD_CORNER_XY: 693214.18300 5256967.12500
SECONDARY_NW_QUAD_XY: 692991.13800 5263693.86700
SECONDARY_NE_QUAD_XY: 697697.95800 5263851.07000
SECONDARY_SE_QUAD_XY: 697932.60600 5256905.74400
SECONDARY_SW_QUAD_XY: 693220.19300 5256748.51100
RMSE_XY: 1.60000
IMAGE_SOURCE: BLACK AND WHITE FILM
SOURCE_IMAGE_ID: NAPP 9144 017
SOURCE_IMAGE_DATE: 1996 08 25
SOURCE_IMAGE_ID: NAPP 9144 016
SOURCE_IMAGE_DATE: 1996 08 25
SOURCE_DEM_DATE: 1978 00 00
AGENCY: WESTERN MAPPING CENTER (WMC)
PRODUCER: UNDEFINED
PRODUCTION_SYSTEM: GIS/MAGIC
COMPRESSION: UNDEFINED
STANDARD_VERSION: 1996 12
METADATA_DATE: 2000 11 14
DATA_FILE_SIZE: 43139564
BYTE_COUNT: 5596
