FILENAME: O4710838.NES.1118254.tif
QUADRANGLE_NAME: DOVETAIL BUTTE
QUADRANT: NE
WEST_LONGITUDE: -108 18 45.00000
EAST_LONGITUDE: -108 15 0.00000
NORTH_LATITUDE: 47 30 0.00000
SOUTH_LATITUDE: 47 26 15.00000
PRODUCTION_DATE: 2000 10 30
RASTER_ORDER: LEFT_RIGHT/TOP_BOTTOM
BAND_ORGANIZATION: SINGLE FILE
BAND_CONTENT: BLACK&WHITE
BAND_CONTENT: UNDEFINED
BAND_CONTENT: UNDEFINED
BITS_PER_PIXEL: 8
SAMPLES_AND_LINES: 5606 7716
HORIZONTAL_DATUM: NAD83
HORIZONTAL_COORDINATE_SYSTEM: UTM
COORDINATE_ZONE: 12
HORIZONTAL_UNITS: METERS
HORIZONTAL_RESOLUTION: 1.00000
SECONDARY_HORIZONTAL_DATUM: NAD27
XY_ORIGIN: 702046.00000 5264696.00000
SECONDARY_XY_ORIGIN: 702103.63900 5264479.77700
NATION: US
NATION: "SCIENCE
STATE: MT
NW_QUAD_CORNER_XY: 702398.45300 5264230.69200
NE_QUAD_CORNER_XY: 707105.08400 5264395.47600
SE_QUAD_CORNERY_XY: 707350.92200 5257450.18900
SW_QUAD_CORNER_XY: 702638.69600 5257285.37400
SECONDARY_NW_QUAD_XY: 702404.75700 5264012.06600
SECONDARY_NE_QUAD_XY: 707111.53500 5264176.85600
SECONDARY_SE_QUAD_XY: 707357.37300 5257231.59000
SECONDARY_SW_QUAD_XY: 702645.00000 5257066.77000
RMSE_XY: 0.80000
IMAGE_SOURCE: BLACK AND WHITE FILM
SOURCE_IMAGE_ID: NAPP 9143 205
SOURCE_IMAGE_DATE: 1996 08 24
SOURCE_DEM_DATE: 1978 00 00
AGENCY: WESTERN MAPPING CENTER (WMC)
PRODUCER: UNDEFINED
PRODUCTION_SYSTEM: GIS/MAGIC
COMPRESSION: UNDEFINED
STANDARD_VERSION: 1996 12
METADATA_DATE: 2000 11 14
DATA_FILE_SIZE: 43261502
BYTE_COUNT: 5606
