FILENAME: O4710839.SES.1118281.tif
QUADRANGLE_NAME: WEINGART PLACE NW
QUADRANT: SE
WEST_LONGITUDE: -108 11 15.00000
EAST_LONGITUDE: -108 7 30.00000
NORTH_LATITUDE: 47 26 15.00000
SOUTH_LATITUDE: 47 22 30.00000
PRODUCTION_DATE: 2000 10 30
RASTER_ORDER: LEFT_RIGHT/TOP_BOTTOM
BAND_ORGANIZATION: SINGLE FILE
BAND_CONTENT: BLACK&WHITE
BAND_CONTENT: UNDEFINED
BAND_CONTENT: UNDEFINED
BITS_PER_PIXEL: 8
SAMPLES_AND_LINES: 5623 7724
HORIZONTAL_DATUM: NAD83
HORIZONTAL_COORDINATE_SYSTEM: UTM
COORDINATE_ZONE: 12
HORIZONTAL_UNITS: METERS
HORIZONTAL_RESOLUTION: 1.00000
SECONDARY_HORIZONTAL_DATUM: NAD27
XY_ORIGIN: 711711.00000 5258092.00000
SECONDARY_XY_ORIGIN: 711768.56800 5257875.85600
NATION: US
NATION: "SCIENCE
STATE: MT
NW_QUAD_CORNER_XY: 712063.12800 5257618.79800
NE_QUAD_CORNER_XY: 716775.31200 5257791.20100
SE_QUAD_CORNERY_XY: 717032.08100 5250846.03500
SW_QUAD_CORNER_XY: 712314.30700 5250673.60000
SECONDARY_NW_QUAD_XY: 712069.72500 5257400.20500
SECONDARY_NE_QUAD_XY: 716782.05500 5257572.61300
SECONDARY_SE_QUAD_XY: 717038.82400 5250627.47000
SECONDARY_SW_QUAD_XY: 712320.90300 5250455.03000
RMSE_XY: 1.50000
IMAGE_SOURCE: BLACK AND WHITE FILM
SOURCE_IMAGE_ID: NAPP 9143 083
SOURCE_IMAGE_DATE: 1996 08 24
SOURCE_DEM_DATE: 1964 00 00
AGENCY: WESTERN MAPPING CENTER (WMC)
PRODUCER: UNDEFINED
PRODUCTION_SYSTEM: GIS/MAGIC
COMPRESSION: UNDEFINED
STANDARD_VERSION: 1996 12
METADATA_DATE: 2000 11 14
DATA_FILE_SIZE: 43437675
BYTE_COUNT: 5623
