FILENAME: O4710840.NWS.1118292.tif
QUADRANGLE_NAME: WEINGART PLACE
QUADRANT: NW
WEST_LONGITUDE: -108 7 30.00000
EAST_LONGITUDE: -108 3 45.00000
NORTH_LATITUDE: 47 30 0.00000
SOUTH_LATITUDE: 47 26 15.00000
PRODUCTION_DATE: 2000 10 31
RASTER_ORDER: LEFT_RIGHT/TOP_BOTTOM
BAND_ORGANIZATION: SINGLE FILE
BAND_CONTENT: BLACK&WHITE
BAND_CONTENT: UNDEFINED
BAND_CONTENT: UNDEFINED
BITS_PER_PIXEL: 8
SAMPLES_AND_LINES: 5623 7727
HORIZONTAL_DATUM: NAD83
HORIZONTAL_COORDINATE_SYSTEM: UTM
COORDINATE_ZONE: 12
HORIZONTAL_UNITS: METERS
HORIZONTAL_RESOLUTION: 1.00000
SECONDARY_HORIZONTAL_DATUM: NAD27
XY_ORIGIN: 716166.00000 5265213.00000
SECONDARY_XY_ORIGIN: 716223.56000 5264996.64200
NATION: US
NATION: "SCIENCE
STATE: MT
NW_QUAD_CORNER_XY: 716518.28300 5264736.42400
NE_QUAD_CORNER_XY: 721224.84900 5264912.58900
SE_QUAD_CORNERY_XY: 721487.47400 5257967.39900
SW_QUAD_CORNER_XY: 716775.31200 5257791.20100
SECONDARY_NW_QUAD_XY: 716525.02800 5264517.81500
SECONDARY_NE_QUAD_XY: 721231.74000 5264693.98500
SECONDARY_SE_QUAD_XY: 721494.36400 5257748.81700
SECONDARY_SW_QUAD_XY: 716782.05500 5257572.61300
RMSE_XY: 1.70000
IMAGE_SOURCE: BLACK AND WHITE FILM
SOURCE_IMAGE_ID: NAPP 9142 202
SOURCE_IMAGE_DATE: 1996 08 24
SOURCE_DEM_DATE: 1964 00 00
AGENCY: WESTERN MAPPING CENTER (WMC)
PRODUCER: UNDEFINED
PRODUCTION_SYSTEM: GIS/MAGIC
COMPRESSION: UNDEFINED
STANDARD_VERSION: 1996 12
METADATA_DATE: 2000 11 14
DATA_FILE_SIZE: 43454544
BYTE_COUNT: 5623
