FILENAME: O4710841.NWS.1118038.tif
QUADRANGLE_NAME: ROY
QUADRANT: NW
WEST_LONGITUDE: -109 0 0.00000
EAST_LONGITUDE: -108 56 15.00000
NORTH_LATITUDE: 47 22 30.00000
SOUTH_LATITUDE: 47 18 45.00000
PRODUCTION_DATE: 2000 11 2
RASTER_ORDER: LEFT_RIGHT/TOP_BOTTOM
BAND_ORGANIZATION: SINGLE FILE
BAND_CONTENT: BLACK&WHITE
BAND_CONTENT: UNDEFINED
BAND_CONTENT: UNDEFINED
BITS_PER_PIXEL: 8
SAMPLES_AND_LINES: 5559 7676
HORIZONTAL_DATUM: NAD83
HORIZONTAL_COORDINATE_SYSTEM: UTM
COORDINATE_ZONE: 12
HORIZONTAL_UNITS: METERS
HORIZONTAL_RESOLUTION: 1.00000
SECONDARY_HORIZONTAL_DATUM: NAD27
XY_ORIGIN: 650626.00000 5249201.00000
SECONDARY_XY_ORIGIN: 650684.74500 5248985.95100
NATION: US
NATION: "SCIENCE
STATE: MT
NW_QUAD_CORNER_XY: 650981.51900 5248777.17900
NE_QUAD_CORNER_XY: 655699.52800 5248900.30300
SE_QUAD_CORNERY_XY: 655883.47900 5241954.84900
SW_QUAD_CORNER_XY: 651159.89200 5241831.70300
SECONDARY_NW_QUAD_XY: 650986.21000 5248558.54900
SECONDARY_NE_QUAD_XY: 655704.36500 5248681.67700
SECONDARY_SE_QUAD_XY: 655888.31500 5241736.24700
SECONDARY_SW_QUAD_XY: 651164.58200 5241613.09700
RMSE_XY: 1.30000
IMAGE_SOURCE: BLACK AND WHITE FILM
SOURCE_IMAGE_ID: NAPP 9147 220
SOURCE_IMAGE_DATE: 1996 08 24
SOURCE_DEM_DATE: 1978 00 00
AGENCY: WESTERN MAPPING CENTER (WMC)
PRODUCER: UNDEFINED
PRODUCTION_SYSTEM: GIS/MAGIC
COMPRESSION: UNDEFINED
STANDARD_VERSION: 1996 12
METADATA_DATE: 2000 11 14
DATA_FILE_SIZE: 42676443
BYTE_COUNT: 5559
