FILENAME: O4710842.SWS.1118056.tif
QUADRANGLE_NAME: BOHEMIAN CORNERS
QUADRANT: SW
WEST_LONGITUDE: -108 52 30.00000
EAST_LONGITUDE: -108 48 45.00000
NORTH_LATITUDE: 47 18 45.00000
SOUTH_LATITUDE: 47 15 0.00000
PRODUCTION_DATE: 2000 11 2
RASTER_ORDER: LEFT_RIGHT/TOP_BOTTOM
BAND_ORGANIZATION: SINGLE FILE
BAND_CONTENT: BLACK&WHITE
BAND_CONTENT: UNDEFINED
BAND_CONTENT: UNDEFINED
BITS_PER_PIXEL: 8
SAMPLES_AND_LINES: 5575 7683
HORIZONTAL_DATUM: NAD83
HORIZONTAL_COORDINATE_SYSTEM: UTM
COORDINATE_ZONE: 12
HORIZONTAL_UNITS: METERS
HORIZONTAL_RESOLUTION: 1.00000
SECONDARY_HORIZONTAL_DATUM: NAD27
XY_ORIGIN: 660252.00000 5242513.00000
SECONDARY_XY_ORIGIN: 660310.58400 5242298.03600
NATION: US
NATION: "SCIENCE
STATE: MT
NW_QUAD_CORNER_XY: 660607.05100 5242081.78700
NE_QUAD_CORNER_XY: 665330.60700 5242212.51700
SE_QUAD_CORNERY_XY: 665525.51900 5235267.17300
SW_QUAD_CORNER_XY: 660796.38900 5235136.42100
SECONDARY_NW_QUAD_XY: 660612.03400 5241863.18900
SECONDARY_NE_QUAD_XY: 665335.73700 5241993.92300
SECONDARY_SE_QUAD_XY: 665530.64700 5235048.60400
SECONDARY_SW_QUAD_XY: 660801.37100 5234917.84700
RMSE_XY: 0.90000
IMAGE_SOURCE: BLACK AND WHITE FILM
SOURCE_IMAGE_ID: NAPP 9157 054
SOURCE_IMAGE_DATE: 1997 09 05
SOURCE_DEM_DATE: 1978 00 00
AGENCY: WESTERN MAPPING CENTER (WMC)
PRODUCER: UNDEFINED
PRODUCTION_SYSTEM: GIS/MAGIC
COMPRESSION: UNDEFINED
STANDARD_VERSION: 1996 12
METADATA_DATE: 2000 11 14
DATA_FILE_SIZE: 42838300
BYTE_COUNT: 5575
