FILENAME: O4710844.NWS.1118074.tif
QUADRANGLE_NAME: BEAR CREEK RESERVOIR SE
QUADRANT: NW
WEST_LONGITUDE: -108 37 30.00000
EAST_LONGITUDE: -108 33 45.00000
NORTH_LATITUDE: 47 22 30.00000
SOUTH_LATITUDE: 47 18 45.00000
PRODUCTION_DATE: 2000 10 27
RASTER_ORDER: LEFT_RIGHT/TOP_BOTTOM
BAND_ORGANIZATION: SINGLE FILE
BAND_CONTENT: BLACK&WHITE
BAND_CONTENT: UNDEFINED
BAND_CONTENT: UNDEFINED
BITS_PER_PIXEL: 8
SAMPLES_AND_LINES: 5591 7697
HORIZONTAL_DATUM: NAD83
HORIZONTAL_COORDINATE_SYSTEM: UTM
COORDINATE_ZONE: 12
HORIZONTAL_UNITS: METERS
HORIZONTAL_RESOLUTION: 1.00000
SECONDARY_HORIZONTAL_DATUM: NAD27
XY_ORIGIN: 678935.00000 5250019.00000
SECONDARY_XY_ORIGIN: 678993.27000 5249803.58100
NATION: US
NATION: "SCIENCE
STATE: MT
NW_QUAD_CORNER_XY: 679289.33200 5249572.79900
NE_QUAD_CORNER_XY: 684007.24200 5249718.67600
SE_QUAD_CORNERY_XY: 684224.67200 5242773.36600
SW_QUAD_CORNER_XY: 679501.18100 5242627.46400
SECONDARY_NW_QUAD_XY: 679294.90200 5249354.19500
SECONDARY_NE_QUAD_XY: 684012.95800 5249500.07600
SECONDARY_SE_QUAD_XY: 684230.38800 5242554.79000
SECONDARY_SW_QUAD_XY: 679506.75000 5242408.88300
RMSE_XY: 0.90000
IMAGE_SOURCE: BLACK AND WHITE FILM
SOURCE_IMAGE_ID: NAPP 9138 190
SOURCE_IMAGE_DATE: 1996 08 23
SOURCE_DEM_DATE: 1978 00 00
AGENCY: WESTERN MAPPING CENTER (WMC)
PRODUCER: UNDEFINED
PRODUCTION_SYSTEM: GIS/MAGIC
COMPRESSION: UNDEFINED
STANDARD_VERSION: 1996 12
METADATA_DATE: 2000 11 14
DATA_FILE_SIZE: 43039518
BYTE_COUNT: 5591
