FILENAME: O4710845.SWS.1118249.tif
QUADRANGLE_NAME: VALENTINE
QUADRANT: SW
WEST_LONGITUDE: -108 30 0.00000
EAST_LONGITUDE: -108 26 15.00000
NORTH_LATITUDE: 47 18 45.00000
SOUTH_LATITUDE: 47 15 0.00000
PRODUCTION_DATE: 2000 10 30
RASTER_ORDER: LEFT_RIGHT/TOP_BOTTOM
BAND_ORGANIZATION: SINGLE FILE
BAND_CONTENT: BLACK&WHITE
BAND_CONTENT: UNDEFINED
BAND_CONTENT: UNDEFINED
BITS_PER_PIXEL: 8
SAMPLES_AND_LINES: 5607 7705
HORIZONTAL_DATUM: NAD83
HORIZONTAL_COORDINATE_SYSTEM: UTM
COORDINATE_ZONE: 12
HORIZONTAL_UNITS: METERS
HORIZONTAL_RESOLUTION: 1.00000
SECONDARY_HORIZONTAL_DATUM: NAD27
XY_ORIGIN: 688594.00000 5243377.00000
SECONDARY_XY_ORIGIN: 688652.06500 5243161.58400
NATION: US
NATION: "SCIENCE
STATE: MT
NW_QUAD_CORNER_XY: 688948.14500 5242923.06200
NE_QUAD_CORNER_XY: 693671.60000 5243076.55300
SE_QUAD_CORNERY_XY: 693899.96200 5236131.35800
SW_QUAD_CORNER_XY: 689170.93000 5235977.84100
SECONDARY_NW_QUAD_XY: 688954.00800 5242704.49100
SECONDARY_NE_QUAD_XY: 693677.60900 5242857.98500
SECONDARY_SE_QUAD_XY: 693905.97000 5235912.81500
SECONDARY_SW_QUAD_XY: 689176.79200 5235759.29400
RMSE_XY: 1.30000
IMAGE_SOURCE: BLACK AND WHITE FILM
SOURCE_IMAGE_ID: NAPP 9144 160
SOURCE_IMAGE_DATE: 1996 08 25
SOURCE_DEM_DATE: 1979 00 00
AGENCY: WESTERN MAPPING CENTER (WMC)
PRODUCER: UNDEFINED
PRODUCTION_SYSTEM: GIS/MAGIC
COMPRESSION: UNDEFINED
STANDARD_VERSION: 1996 12
METADATA_DATE: 2000 11 14
DATA_FILE_SIZE: 43207542
BYTE_COUNT: 5607
