FILENAME: O4710845.SES.1118248.tif
QUADRANGLE_NAME: VALENTINE
QUADRANT: SE
WEST_LONGITUDE: -108 26 15.00000
EAST_LONGITUDE: -108 22 30.00000
NORTH_LATITUDE: 47 18 45.00000
SOUTH_LATITUDE: 47 15 0.00000
PRODUCTION_DATE: 2000 10 30
RASTER_ORDER: LEFT_RIGHT/TOP_BOTTOM
BAND_ORGANIZATION: SINGLE FILE
BAND_CONTENT: BLACK&WHITE
BAND_CONTENT: UNDEFINED
BAND_CONTENT: UNDEFINED
BITS_PER_PIXEL: 8
SAMPLES_AND_LINES: 5612 7708
HORIZONTAL_DATUM: NAD83
HORIZONTAL_COORDINATE_SYSTEM: UTM
COORDINATE_ZONE: 12
HORIZONTAL_UNITS: METERS
HORIZONTAL_RESOLUTION: 1.00000
SECONDARY_HORIZONTAL_DATUM: NAD27
XY_ORIGIN: 693318.00000 5243534.00000
SECONDARY_XY_ORIGIN: 693375.96200 5243318.50000
NATION: US
NATION: "SCIENCE
STATE: MT
NW_QUAD_CORNER_XY: 693671.60000 5243076.55300
NE_QUAD_CORNER_XY: 698395.03700 5243233.83700
SE_QUAD_CORNERY_XY: 698628.97500 5236288.67000
SW_QUAD_CORNER_XY: 693899.96200 5236131.35800
SECONDARY_NW_QUAD_XY: 693677.60900 5242857.98500
SECONDARY_NE_QUAD_XY: 698401.19300 5243015.27500
SECONDARY_SE_QUAD_XY: 698635.13000 5236070.13200
SECONDARY_SW_QUAD_XY: 693905.97000 5235912.81500
RMSE_XY: 0.90000
IMAGE_SOURCE: BLACK AND WHITE FILM
SOURCE_IMAGE_ID: NAPP 9144 011
SOURCE_IMAGE_DATE: 1996 08 25
SOURCE_IMAGE_ID: NAPP 9144 010
SOURCE_IMAGE_DATE: 1996 08 25
SOURCE_DEM_DATE: 1979 00 00
AGENCY: WESTERN MAPPING CENTER (WMC)
PRODUCER: UNDEFINED
PRODUCTION_SYSTEM: GIS/MAGIC
COMPRESSION: UNDEFINED
STANDARD_VERSION: 1996 12
METADATA_DATE: 2000 11 14
DATA_FILE_SIZE: 43262908
BYTE_COUNT: 5612
