FILENAME: O4710847.SES.1118268.tif
QUADRANGLE_NAME: DAVIS SPRING
QUADRANT: SE
WEST_LONGITUDE: -108 11 15.00000
EAST_LONGITUDE: -108 7 30.00000
NORTH_LATITUDE: 47 18 45.00000
SOUTH_LATITUDE: 47 15 0.00000
PRODUCTION_DATE: 2000 10 30
RASTER_ORDER: LEFT_RIGHT/TOP_BOTTOM
BAND_ORGANIZATION: SINGLE FILE
BAND_CONTENT: BLACK&WHITE
BAND_CONTENT: UNDEFINED
BAND_CONTENT: UNDEFINED
BITS_PER_PIXEL: 8
SAMPLES_AND_LINES: 5633 7723
HORIZONTAL_DATUM: NAD83
HORIZONTAL_COORDINATE_SYSTEM: UTM
COORDINATE_ZONE: 12
HORIZONTAL_UNITS: METERS
HORIZONTAL_RESOLUTION: 1.00000
SECONDARY_HORIZONTAL_DATUM: NAD27
XY_ORIGIN: 712213.00000 5244201.00000
SECONDARY_XY_ORIGIN: 712270.66700 5243985.22800
NATION: US
NATION: "SCIENCE
STATE: MT
NW_QUAD_CORNER_XY: 712565.23200 5243728.46000
NE_QUAD_CORNER_XY: 717288.59000 5243900.92600
SE_QUAD_CORNERY_XY: 717544.83900 5236955.87400
SW_QUAD_CORNER_XY: 712815.90300 5236783.37900
SECONDARY_NW_QUAD_XY: 712571.82700 5243509.91400
SECONDARY_NE_QUAD_XY: 717295.33200 5243682.38500
SECONDARY_SE_QUAD_XY: 717551.58000 5236737.35700
SECONDARY_SW_QUAD_XY: 712822.49700 5236564.85600
RMSE_XY: 0.90000
IMAGE_SOURCE: BLACK AND WHITE FILM
SOURCE_IMAGE_ID: NAPP 9143 079
SOURCE_IMAGE_DATE: 1996 08 24
SOURCE_IMAGE_ID: NAPP 9143 078
SOURCE_IMAGE_DATE: 1996 08 24
SOURCE_DEM_DATE: 1978 00 00
AGENCY: WESTERN MAPPING CENTER (WMC)
PRODUCER: UNDEFINED
PRODUCTION_SYSTEM: GIS/MAGIC
COMPRESSION: UNDEFINED
STANDARD_VERSION: 1996 12
METADATA_DATE: 2000 11 14
DATA_FILE_SIZE: 43509292
BYTE_COUNT: 5633
