FILENAME: O4710850.SES.1118091.tif
QUADRANGLE_NAME: GRASS RANGE NE
QUADRANT: SE
WEST_LONGITUDE: -108 48 45.00000
EAST_LONGITUDE: -108 45 0.00000
NORTH_LATITUDE: 47 11 15.00000
SOUTH_LATITUDE: 47 7 30.00000
PRODUCTION_DATE: 2000 11 2
RASTER_ORDER: LEFT_RIGHT/TOP_BOTTOM
BAND_ORGANIZATION: SINGLE FILE
BAND_CONTENT: BLACK&WHITE
BAND_CONTENT: UNDEFINED
BAND_CONTENT: UNDEFINED
BITS_PER_PIXEL: 8
SAMPLES_AND_LINES: 5591 7687
HORIZONTAL_DATUM: NAD83
HORIZONTAL_COORDINATE_SYSTEM: UTM
COORDINATE_ZONE: 12
HORIZONTAL_UNITS: METERS
HORIZONTAL_RESOLUTION: 1.00000
SECONDARY_HORIZONTAL_DATUM: NAD27
XY_ORIGIN: 665365.00000 5228757.00000
SECONDARY_XY_ORIGIN: 665423.42900 5228542.41900
NATION: US
NATION: "SCIENCE
STATE: MT
NW_QUAD_CORNER_XY: 665720.23200 5228321.89500
NE_QUAD_CORNER_XY: 670454.91500 5228456.46300
SE_QUAD_CORNERY_XY: 670654.99200 5221511.27200
SW_QUAD_CORNER_XY: 665914.74600 5221376.68100
SECONDARY_NW_QUAD_XY: 665725.36000 5228103.35100
SECONDARY_NE_QUAD_XY: 670460.18900 5228237.92300
SECONDARY_SE_QUAD_XY: 670660.26500 5221292.75800
SECONDARY_SW_QUAD_XY: 665919.87300 5221158.16400
RMSE_XY: 0.80000
IMAGE_SOURCE: BLACK AND WHITE FILM
SOURCE_IMAGE_ID: NAPP 9157 171
SOURCE_IMAGE_DATE: 1997 09 05
SOURCE_DEM_DATE: 2000 11 02
AGENCY: WESTERN MAPPING CENTER (WMC)
PRODUCER: UNDEFINED
PRODUCTION_SYSTEM: GIS/MAGIC
COMPRESSION: UNDEFINED
STANDARD_VERSION: 1996 12
METADATA_DATE: 2000 12 14
DATA_FILE_SIZE: 42983608
BYTE_COUNT: 5591
