FILENAME: O4710850.NWS.1118090.tif
QUADRANGLE_NAME: GRASS RANGE NE
QUADRANT: NW
WEST_LONGITUDE: -108 52 30.00000
EAST_LONGITUDE: -108 48 45.00000
NORTH_LATITUDE: 47 15 0.00000
SOUTH_LATITUDE: 47 11 15.00000
PRODUCTION_DATE: 2000 11 2
RASTER_ORDER: LEFT_RIGHT/TOP_BOTTOM
BAND_ORGANIZATION: SINGLE FILE
BAND_CONTENT: BLACK&WHITE
BAND_CONTENT: UNDEFINED
BAND_CONTENT: UNDEFINED
BITS_PER_PIXEL: 8
SAMPLES_AND_LINES: 5581 7683
HORIZONTAL_DATUM: NAD83
HORIZONTAL_COORDINATE_SYSTEM: UTM
COORDINATE_ZONE: 12
HORIZONTAL_UNITS: METERS
HORIZONTAL_RESOLUTION: 1.00000
SECONDARY_HORIZONTAL_DATUM: NAD27
XY_ORIGIN: 660441.00000 5235568.00000
SECONDARY_XY_ORIGIN: 660499.56400 5235353.21500
NATION: US
NATION: "SCIENCE
STATE: MT
NW_QUAD_CORNER_XY: 660796.38900 5235136.42100
NE_QUAD_CORNER_XY: 665525.51900 5235267.17300
SE_QUAD_CORNERY_XY: 665720.23200 5228321.89500
SW_QUAD_CORNER_XY: 660985.53400 5228191.12000
SECONDARY_NW_QUAD_XY: 660801.37100 5234917.84700
SECONDARY_NE_QUAD_XY: 665530.64700 5235048.60400
SECONDARY_SE_QUAD_XY: 665725.36000 5228103.35100
SECONDARY_SW_QUAD_XY: 660990.51500 5227972.57200
RMSE_XY: 1.10000
IMAGE_SOURCE: BLACK AND WHITE FILM
SOURCE_IMAGE_ID: NAPP 9157 052
SOURCE_IMAGE_DATE: 1997 09 05
SOURCE_DEM_DATE: 2000 11 02
AGENCY: WESTERN MAPPING CENTER (WMC)
PRODUCER: UNDEFINED
PRODUCTION_SYSTEM: GIS/MAGIC
COMPRESSION: UNDEFINED
STANDARD_VERSION: 1996 12
METADATA_DATE: 2000 12 14
DATA_FILE_SIZE: 42884404
BYTE_COUNT: 5581
