FILENAME: O4710851.NWS.1118070.tif
QUADRANGLE_NAME: TEIGEN NW
QUADRANT: NW
WEST_LONGITUDE: -108 45 0.00000
EAST_LONGITUDE: -108 41 15.00000
NORTH_LATITUDE: 47 15 0.00000
SOUTH_LATITUDE: 47 11 15.00000
PRODUCTION_DATE: 2000 11 2
RASTER_ORDER: LEFT_RIGHT/TOP_BOTTOM
BAND_ORGANIZATION: SINGLE FILE
BAND_CONTENT: BLACK&WHITE
BAND_CONTENT: UNDEFINED
BAND_CONTENT: UNDEFINED
BITS_PER_PIXEL: 8
SAMPLES_AND_LINES: 5591 7691
HORIZONTAL_DATUM: NAD83
HORIZONTAL_COORDINATE_SYSTEM: UTM
COORDINATE_ZONE: 12
HORIZONTAL_UNITS: METERS
HORIZONTAL_RESOLUTION: 1.00000
SECONDARY_HORIZONTAL_DATUM: NAD27
XY_ORIGIN: 669900.00000 5235841.00000
SECONDARY_XY_ORIGIN: 669958.34400 5235626.19000
NATION: US
NATION: "SCIENCE
STATE: MT
NW_QUAD_CORNER_XY: 670254.63300 5235401.71900
NE_QUAD_CORNER_XY: 674983.73200 5235540.05900
SE_QUAD_CORNERY_XY: 675189.58200 5228594.82600
SW_QUAD_CORNER_XY: 670454.91500 5228456.46300
SECONDARY_NW_QUAD_XY: 670259.90900 5235183.15400
SECONDARY_NE_QUAD_XY: 674989.15400 5235321.49800
SECONDARY_SE_QUAD_XY: 675195.00300 5228376.29000
SECONDARY_SW_QUAD_XY: 670460.18900 5228237.92300
RMSE_XY: 0.80000
IMAGE_SOURCE: BLACK AND WHITE FILM
SOURCE_IMAGE_ID: NAPP 9140 049
SOURCE_IMAGE_DATE: 1996 08 23
SOURCE_DEM_DATE: 1982 00 00
AGENCY: WESTERN MAPPING CENTER (WMC)
PRODUCER: UNDEFINED
PRODUCTION_SYSTEM: GIS/MAGIC
COMPRESSION: UNDEFINED
STANDARD_VERSION: 1996 12
METADATA_DATE: 2000 11 14
DATA_FILE_SIZE: 43005972
BYTE_COUNT: 5591
