FILENAME: O4710851.NES.1118069.tif
QUADRANGLE_NAME: TEIGEN NW
QUADRANT: NE
WEST_LONGITUDE: -108 41 15.00000
EAST_LONGITUDE: -108 37 30.00000
NORTH_LATITUDE: 47 15 0.00000
SOUTH_LATITUDE: 47 11 15.00000
PRODUCTION_DATE: 2000 11 2
RASTER_ORDER: LEFT_RIGHT/TOP_BOTTOM
BAND_ORGANIZATION: SINGLE FILE
BAND_CONTENT: BLACK&WHITE
BAND_CONTENT: UNDEFINED
BAND_CONTENT: UNDEFINED
BITS_PER_PIXEL: 8
SAMPLES_AND_LINES: 5597 7695
HORIZONTAL_DATUM: NAD83
HORIZONTAL_COORDINATE_SYSTEM: UTM
COORDINATE_ZONE: 12
HORIZONTAL_UNITS: METERS
HORIZONTAL_RESOLUTION: 1.00000
SECONDARY_HORIZONTAL_DATUM: NAD27
XY_ORIGIN: 674629.00000 5235983.00000
SECONDARY_XY_ORIGIN: 674687.27000 5235768.08800
NATION: US
NATION: "SCIENCE
STATE: MT
NW_QUAD_CORNER_XY: 674983.73200 5235540.05900
NE_QUAD_CORNER_XY: 679712.81500 5235682.19200
SE_QUAD_CORNERY_XY: 679924.23400 5228736.98300
SW_QUAD_CORNER_XY: 675189.58200 5228594.82600
SECONDARY_NW_QUAD_XY: 674989.15400 5235321.49800
SECONDARY_NE_QUAD_XY: 679718.38400 5235463.63500
SECONDARY_SE_QUAD_XY: 679929.80200 5228518.45200
SECONDARY_SW_QUAD_XY: 675195.00300 5228376.29000
RMSE_XY: 1.30000
IMAGE_SOURCE: BLACK AND WHITE FILM
SOURCE_IMAGE_ID: NAPP 9140 046
SOURCE_IMAGE_DATE: 1996 08 23
SOURCE_DEM_DATE: 1982 00 00
AGENCY: WESTERN MAPPING CENTER (WMC)
PRODUCER: UNDEFINED
PRODUCTION_SYSTEM: GIS/MAGIC
COMPRESSION: UNDEFINED
STANDARD_VERSION: 1996 12
METADATA_DATE: 2000 11 14
DATA_FILE_SIZE: 43074512
BYTE_COUNT: 5597
