FILENAME: O4710852.SES.1118079.tif
QUADRANGLE_NAME: WILD HORSE LAKE
QUADRANT: SE
WEST_LONGITUDE: -108 33 45.00000
EAST_LONGITUDE: -108 30 0.00000
NORTH_LATITUDE: 47 11 15.00000
SOUTH_LATITUDE: 47 7 30.00000
PRODUCTION_DATE: 2000 10 27
RASTER_ORDER: LEFT_RIGHT/TOP_BOTTOM
BAND_ORGANIZATION: SINGLE FILE
BAND_CONTENT: BLACK&WHITE
BAND_CONTENT: UNDEFINED
BAND_CONTENT: UNDEFINED
BITS_PER_PIXEL: 8
SAMPLES_AND_LINES: 5612 7702
HORIZONTAL_DATUM: NAD83
HORIZONTAL_COORDINATE_SYSTEM: UTM
COORDINATE_ZONE: 12
HORIZONTAL_UNITS: METERS
HORIZONTAL_RESOLUTION: 1.00000
SECONDARY_HORIZONTAL_DATUM: NAD27
XY_ORIGIN: 684305.00000 5229333.00000
SECONDARY_XY_ORIGIN: 684363.10800 5229118.10700
NATION: US
NATION: "SCIENCE
STATE: MT
NW_QUAD_CORNER_XY: 684658.87000 5228882.93500
NE_QUAD_CORNER_XY: 689393.48900 5229032.68200
SE_QUAD_CORNERY_XY: 689615.82000 5222087.58400
SW_QUAD_CORNER_XY: 684875.63700 5221937.81300
SECONDARY_NW_QUAD_XY: 684664.58400 5228664.40800
SECONDARY_NE_QUAD_XY: 689399.35000 5228814.16000
SECONDARY_SE_QUAD_XY: 689621.68000 5221869.08800
SECONDARY_SW_QUAD_XY: 684881.35100 5221719.31200
RMSE_XY: 0.80000
IMAGE_SOURCE: BLACK AND WHITE FILM
SOURCE_IMAGE_ID: NAPP 9138 075
SOURCE_IMAGE_DATE: 1996 08 23
SOURCE_DEM_DATE: 1982 00 00
AGENCY: WESTERN MAPPING CENTER (WMC)
PRODUCER: UNDEFINED
PRODUCTION_SYSTEM: GIS/MAGIC
COMPRESSION: UNDEFINED
STANDARD_VERSION: 1996 12
METADATA_DATE: 2000 11 14
DATA_FILE_SIZE: 43229236
BYTE_COUNT: 5612
