FILENAME: O4710854.NES.1118262.tif
QUADRANGLE_NAME: DRY BLOOD CREEK EAST
QUADRANT: NE
WEST_LONGITUDE: -108 18 45.00000
EAST_LONGITUDE: -108 15 0.00000
NORTH_LATITUDE: 47 15 0.00000
SOUTH_LATITUDE: 47 11 15.00000
PRODUCTION_DATE: 2000 10 30
RASTER_ORDER: LEFT_RIGHT/TOP_BOTTOM
BAND_ORGANIZATION: SINGLE FILE
BAND_CONTENT: BLACK&WHITE
BAND_CONTENT: UNDEFINED
BAND_CONTENT: UNDEFINED
BITS_PER_PIXEL: 8
SAMPLES_AND_LINES: 5628 7716
HORIZONTAL_DATUM: NAD83
HORIZONTAL_COORDINATE_SYSTEM: UTM
COORDINATE_ZONE: 12
HORIZONTAL_UNITS: METERS
HORIZONTAL_RESOLUTION: 1.00000
SECONDARY_HORIZONTAL_DATUM: NAD27
XY_ORIGIN: 703005.00000 5236915.00000
SECONDARY_XY_ORIGIN: 703062.79500 5236699.51700
NATION: US
NATION: "SCIENCE
STATE: MT
NW_QUAD_CORNER_XY: 703357.97000 5236449.77700
NE_QUAD_CORNER_XY: 708086.94600 5236614.68000
SE_QUAD_CORNERY_XY: 708331.78900 5229669.62700
SW_QUAD_CORNER_XY: 703597.24100 5229504.69700
SECONDARY_NW_QUAD_XY: 703364.27100 5236231.24400
SECONDARY_NE_QUAD_XY: 708093.39400 5236396.15200
SECONDARY_SE_QUAD_XY: 708338.23600 5229451.12500
SECONDARY_SW_QUAD_XY: 703603.54200 5229286.18900
RMSE_XY: 2.40000
IMAGE_SOURCE: BLACK AND WHITE FILM
SOURCE_IMAGE_ID: NAPP 9137 037
SOURCE_IMAGE_DATE: 1996 08 23
SOURCE_IMAGE_ID: NAPP 9143 198
SOURCE_IMAGE_DATE: 1996 08 24
SOURCE_DEM_DATE: 1986 00 00
AGENCY: WESTERN MAPPING CENTER (WMC)
PRODUCER: UNDEFINED
PRODUCTION_SYSTEM: GIS/MAGIC
COMPRESSION: UNDEFINED
STANDARD_VERSION: 1996 12
METADATA_DATE: 2000 11 14
DATA_FILE_SIZE: 43431276
BYTE_COUNT: 5628
