FILENAME: O4710856.SWS.1118286.tif
QUADRANGLE_NAME: TIN CAN HILL
QUADRANT: SW
WEST_LONGITUDE: -108 7 30.00000
EAST_LONGITUDE: -108 3 45.00000
NORTH_LATITUDE: 47 11 15.00000
SOUTH_LATITUDE: 47 7 30.00000
PRODUCTION_DATE: 2000 10 31
RASTER_ORDER: LEFT_RIGHT/TOP_BOTTOM
BAND_ORGANIZATION: SINGLE FILE
BAND_CONTENT: BLACK&WHITE
BAND_CONTENT: UNDEFINED
BAND_CONTENT: UNDEFINED
BITS_PER_PIXEL: 8
SAMPLES_AND_LINES: 5650 7728
HORIZONTAL_DATUM: NAD83
HORIZONTAL_COORDINATE_SYSTEM: UTM
COORDINATE_ZONE: 12
HORIZONTAL_UNITS: METERS
HORIZONTAL_RESOLUTION: 1.00000
SECONDARY_HORIZONTAL_DATUM: NAD27
XY_ORIGIN: 717448.00000 5230488.00000
SECONDARY_XY_ORIGIN: 717505.78400 5230272.61500
NATION: US
NATION: "SCIENCE
STATE: MT
NW_QUAD_CORNER_XY: 717800.82800 5230010.87900
NE_QUAD_CORNER_XY: 722535.31800 5230187.20100
SE_QUAD_CORNERY_XY: 722796.61500 5223242.29200
SW_QUAD_CORNER_XY: 718056.55700 5223065.94100
SECONDARY_NW_QUAD_XY: 717807.56800 5229792.38700
SECONDARY_NE_QUAD_XY: 722542.20500 5229968.71500
SECONDARY_SE_QUAD_XY: 722803.50000 5223023.83200
SECONDARY_SW_QUAD_XY: 718063.29600 5222847.47500
RMSE_XY: 1.60000
IMAGE_SOURCE: BLACK AND WHITE FILM
SOURCE_IMAGE_ID: NAPP 9142 212
SOURCE_IMAGE_DATE: 1996 08 24
SOURCE_DEM_DATE: 1986 00 00
AGENCY: WESTERN MAPPING CENTER (WMC)
PRODUCER: UNDEFINED
PRODUCTION_SYSTEM: GIS/MAGIC
COMPRESSION: UNDEFINED
STANDARD_VERSION: 1996 12
METADATA_DATE: 2000 11 14
DATA_FILE_SIZE: 43668850
BYTE_COUNT: 5650
