FILENAME: O4710856.NWS.1118284.tif
QUADRANGLE_NAME: TIN CAN HILL
QUADRANT: NW
WEST_LONGITUDE: -108 7 30.00000
EAST_LONGITUDE: -108 3 45.00000
NORTH_LATITUDE: 47 15 0.00000
SOUTH_LATITUDE: 47 11 15.00000
PRODUCTION_DATE: 2000 10 31
RASTER_ORDER: LEFT_RIGHT/TOP_BOTTOM
BAND_ORGANIZATION: SINGLE FILE
BAND_CONTENT: BLACK&WHITE
BAND_CONTENT: UNDEFINED
BAND_CONTENT: UNDEFINED
BITS_PER_PIXEL: 8
SAMPLES_AND_LINES: 5645 7728
HORIZONTAL_DATUM: NAD83
HORIZONTAL_COORDINATE_SYSTEM: UTM
COORDINATE_ZONE: 12
HORIZONTAL_UNITS: METERS
HORIZONTAL_RESOLUTION: 1.00000
SECONDARY_HORIZONTAL_DATUM: NAD27
XY_ORIGIN: 717192.00000 5237433.00000
SECONDARY_XY_ORIGIN: 717249.71200 5237217.40800
NATION: US
NATION: "SCIENCE
STATE: MT
NW_QUAD_CORNER_XY: 717544.83900 5236955.87400
NE_QUAD_CORNER_XY: 722273.75600 5237132.16600
SE_QUAD_CORNERY_XY: 722535.31800 5230187.20100
SW_QUAD_CORNER_XY: 717800.82800 5230010.87900
SECONDARY_NW_QUAD_XY: 717551.58000 5236737.35700
SECONDARY_NE_QUAD_XY: 722280.64400 5236913.65500
SECONDARY_SE_QUAD_XY: 722542.20500 5229968.71500
SECONDARY_SW_QUAD_XY: 717807.56800 5229792.38700
RMSE_XY: 2.10000
IMAGE_SOURCE: BLACK AND WHITE FILM
SOURCE_IMAGE_ID: NAPP 9142 210
SOURCE_IMAGE_DATE: 1996 08 24
SOURCE_IMAGE_ID: NAPP 9142 211
SOURCE_IMAGE_DATE: 1996 08 24
SOURCE_IMAGE_ID: NAPP 9142 209
SOURCE_IMAGE_DATE: 1996 08 24
SOURCE_DEM_DATE: 1986 00 00
AGENCY: WESTERN MAPPING CENTER (WMC)
PRODUCER: UNDEFINED
PRODUCTION_SYSTEM: GIS/MAGIC
COMPRESSION: UNDEFINED
STANDARD_VERSION: 1996 12
METADATA_DATE: 2000 11 14
DATA_FILE_SIZE: 43630205
BYTE_COUNT: 5645
