FILENAME: O4710857.SWS.1118044.tif
QUADRANGLE_NAME: FISH DAM
QUADRANT: SW
WEST_LONGITUDE: -109 0 0.00000
EAST_LONGITUDE: -108 56 15.00000
NORTH_LATITUDE: 47 3 45.00000
SOUTH_LATITUDE: 47 0 0.00000
PRODUCTION_DATE: 2000 11 2
RASTER_ORDER: LEFT_RIGHT/TOP_BOTTOM
BAND_ORGANIZATION: SINGLE FILE
BAND_CONTENT: BLACK&WHITE
BAND_CONTENT: UNDEFINED
BAND_CONTENT: UNDEFINED
BITS_PER_PIXEL: 8
SAMPLES_AND_LINES: 5586 7676
HORIZONTAL_DATUM: NAD83
HORIZONTAL_COORDINATE_SYSTEM: UTM
COORDINATE_ZONE: 12
HORIZONTAL_UNITS: METERS
HORIZONTAL_RESOLUTION: 1.00000
SECONDARY_HORIZONTAL_DATUM: NAD27
XY_ORIGIN: 651516.00000 5214474.00000
SECONDARY_XY_ORIGIN: 651574.86700 5214259.88300
NATION: US
NATION: "SCIENCE
STATE: MT
NW_QUAD_CORNER_XY: 651871.57100 5214050.46800
NE_QUAD_CORNER_XY: 656617.41500 5214173.69500
SE_QUAD_CORNERY_XY: 656800.43100 5207228.57300
SW_QUAD_CORNER_XY: 652049.03700 5207105.32700
SECONDARY_NW_QUAD_XY: 651876.25900 5213831.96600
SECONDARY_NE_QUAD_XY: 656622.24900 5213955.19600
SECONDARY_SE_QUAD_XY: 656805.26300 5207010.10200
SECONDARY_SW_QUAD_XY: 652053.72300 5206886.85200
RMSE_XY: 1.30000
IMAGE_SOURCE: BLACK AND WHITE FILM
SOURCE_IMAGE_ID: NAPP 9147 230
SOURCE_IMAGE_DATE: 1996 08 24
SOURCE_IMAGE_ID: NAPP 9147 231
SOURCE_IMAGE_DATE: 1996 08 24
SOURCE_DEM_DATE: 1982 00 00
AGENCY: WESTERN MAPPING CENTER (WMC)
PRODUCER: UNDEFINED
PRODUCTION_SYSTEM: GIS/MAGIC
COMPRESSION: UNDEFINED
STANDARD_VERSION: 1996 12
METADATA_DATE: 2000 11 14
DATA_FILE_SIZE: 42883722
BYTE_COUNT: 5586
