FILENAME: O4710857.NWS.1118042.tif
QUADRANGLE_NAME: FISH DAM
QUADRANT: NW
WEST_LONGITUDE: -109 0 0.00000
EAST_LONGITUDE: -108 56 15.00000
NORTH_LATITUDE: 47 7 30.00000
SOUTH_LATITUDE: 47 3 45.00000
PRODUCTION_DATE: 2000 11 2
RASTER_ORDER: LEFT_RIGHT/TOP_BOTTOM
BAND_ORGANIZATION: SINGLE FILE
BAND_CONTENT: BLACK&WHITE
BAND_CONTENT: UNDEFINED
BAND_CONTENT: UNDEFINED
BITS_PER_PIXEL: 8
SAMPLES_AND_LINES: 5581 7675
HORIZONTAL_DATUM: NAD83
HORIZONTAL_COORDINATE_SYSTEM: UTM
COORDINATE_ZONE: 12
HORIZONTAL_UNITS: METERS
HORIZONTAL_RESOLUTION: 1.00000
SECONDARY_HORIZONTAL_DATUM: NAD27
XY_ORIGIN: 651338.00000 5221419.00000
SECONDARY_XY_ORIGIN: 651396.83500 5221204.67000
NATION: US
NATION: "SCIENCE
STATE: MT
NW_QUAD_CORNER_XY: 651693.92400 5220995.67700
NE_QUAD_CORNER_XY: 656434.21200 5221118.88400
SE_QUAD_CORNERY_XY: 656617.41500 5214173.69500
SW_QUAD_CORNER_XY: 651871.57100 5214050.46800
SECONDARY_NW_QUAD_XY: 651698.61200 5220777.14700
SECONDARY_NE_QUAD_XY: 656439.04600 5220900.35800
SECONDARY_SE_QUAD_XY: 656622.24900 5213955.19600
SECONDARY_SW_QUAD_XY: 651876.25900 5213831.96600
RMSE_XY: 1.40000
IMAGE_SOURCE: BLACK AND WHITE FILM
SOURCE_IMAGE_ID: NAPP 9147 228
SOURCE_IMAGE_DATE: 1996 08 24
SOURCE_DEM_DATE: 1982 00 00
AGENCY: WESTERN MAPPING CENTER (WMC)
PRODUCER: UNDEFINED
PRODUCTION_SYSTEM: GIS/MAGIC
COMPRESSION: UNDEFINED
STANDARD_VERSION: 1996 12
METADATA_DATE: 2000 11 14
DATA_FILE_SIZE: 42839756
BYTE_COUNT: 5581
