FILENAME: O4710857.NES.1118041.tif
QUADRANGLE_NAME: FISH DAM
QUADRANT: NE
WEST_LONGITUDE: -108 56 15.00000
EAST_LONGITUDE: -108 52 30.00000
NORTH_LATITUDE: 47 7 30.00000
SOUTH_LATITUDE: 47 3 45.00000
PRODUCTION_DATE: 2000 11 2
RASTER_ORDER: LEFT_RIGHT/TOP_BOTTOM
BAND_ORGANIZATION: SINGLE FILE
BAND_CONTENT: BLACK&WHITE
BAND_CONTENT: UNDEFINED
BAND_CONTENT: UNDEFINED
BITS_PER_PIXEL: 8
SAMPLES_AND_LINES: 5586 7679
HORIZONTAL_DATUM: NAD83
HORIZONTAL_COORDINATE_SYSTEM: UTM
COORDINATE_ZONE: 12
HORIZONTAL_UNITS: METERS
HORIZONTAL_RESOLUTION: 1.00000
SECONDARY_HORIZONTAL_DATUM: NAD27
XY_ORIGIN: 656079.00000 5221546.00000
SECONDARY_XY_ORIGIN: 656137.69000 5221331.66000
NATION: US
NATION: "SCIENCE
STATE: MT
NW_QUAD_CORNER_XY: 656434.21200 5221118.88400
NE_QUAD_CORNER_XY: 661174.48600 5221245.88600
SE_QUAD_CORNERY_XY: 661363.24500 5214300.71700
SW_QUAD_CORNER_XY: 656617.41500 5214173.69500
SECONDARY_NW_QUAD_XY: 656439.04600 5220900.35800
SECONDARY_NE_QUAD_XY: 661179.46700 5221027.36400
SECONDARY_SE_QUAD_XY: 661368.22500 5214082.22200
SECONDARY_SW_QUAD_XY: 656622.24900 5213955.19600
RMSE_XY: 1.50000
IMAGE_SOURCE: BLACK AND WHITE FILM
SOURCE_IMAGE_ID: NAPP 9147 103
SOURCE_IMAGE_DATE: 1996 08 24
SOURCE_DEM_DATE: 1982 00 00
AGENCY: WESTERN MAPPING CENTER (WMC)
PRODUCER: UNDEFINED
PRODUCTION_SYSTEM: GIS/MAGIC
COMPRESSION: UNDEFINED
STANDARD_VERSION: 1996 12
METADATA_DATE: 2000 11 14
DATA_FILE_SIZE: 42900480
BYTE_COUNT: 5586
