FILENAME: O4710858.NES.1118093.tif
QUADRANGLE_NAME: GRASS RANGE
QUADRANT: NE
WEST_LONGITUDE: -108 48 45.00000
EAST_LONGITUDE: -108 45 0.00000
NORTH_LATITUDE: 47 7 30.00000
SOUTH_LATITUDE: 47 3 45.00000
PRODUCTION_DATE: 2000 11 2
RASTER_ORDER: LEFT_RIGHT/TOP_BOTTOM
BAND_ORGANIZATION: SINGLE FILE
BAND_CONTENT: BLACK&WHITE
BAND_CONTENT: UNDEFINED
BAND_CONTENT: UNDEFINED
BITS_PER_PIXEL: 8
SAMPLES_AND_LINES: 5596 7687
HORIZONTAL_DATUM: NAD83
HORIZONTAL_COORDINATE_SYSTEM: UTM
COORDINATE_ZONE: 12
HORIZONTAL_UNITS: METERS
HORIZONTAL_RESOLUTION: 1.00000
SECONDARY_HORIZONTAL_DATUM: NAD27
XY_ORIGIN: 665560.00000 5221812.00000
SECONDARY_XY_ORIGIN: 665618.39800 5221597.63800
NATION: US
NATION: "SCIENCE
STATE: MT
NW_QUAD_CORNER_XY: 665914.74600 5221376.68100
NE_QUAD_CORNER_XY: 670654.99200 5221511.27200
SE_QUAD_CORNERY_XY: 670854.86400 5214566.14500
SW_QUAD_CORNER_XY: 666109.06200 5214431.53300
SECONDARY_NW_QUAD_XY: 665919.87300 5221158.16400
SECONDARY_NE_QUAD_XY: 670660.26500 5221292.75800
SECONDARY_SE_QUAD_XY: 670860.13700 5214347.65800
SECONDARY_SW_QUAD_XY: 666114.18800 5214213.04200
RMSE_XY: 1.20000
IMAGE_SOURCE: BLACK AND WHITE FILM
SOURCE_IMAGE_ID: NAPP 9157 173
SOURCE_IMAGE_DATE: 1997 09 05
SOURCE_DEM_DATE: 2000 11 02
AGENCY: WESTERN MAPPING CENTER (WMC)
PRODUCER: UNDEFINED
PRODUCTION_SYSTEM: GIS/MAGIC
COMPRESSION: UNDEFINED
STANDARD_VERSION: 1996 12
METADATA_DATE: 2000 12 14
DATA_FILE_SIZE: 43022048
BYTE_COUNT: 5596
