FILENAME: O4710860.SWS.1118084.tif
QUADRANGLE_NAME: TEIGEN
QUADRANT: SW
WEST_LONGITUDE: -108 37 30.00000
EAST_LONGITUDE: -108 33 45.00000
NORTH_LATITUDE: 47 3 45.00000
SOUTH_LATITUDE: 47 0 0.00000
PRODUCTION_DATE: 2000 10 26
RASTER_ORDER: LEFT_RIGHT/TOP_BOTTOM
BAND_ORGANIZATION: SINGLE FILE
BAND_CONTENT: BLACK&WHITE
BAND_CONTENT: UNDEFINED
BAND_CONTENT: UNDEFINED
BITS_PER_PIXEL: 8
SAMPLES_AND_LINES: 5618 7698
HORIZONTAL_DATUM: NAD83
HORIZONTAL_COORDINATE_SYSTEM: UTM
COORDINATE_ZONE: 12
HORIZONTAL_UNITS: METERS
HORIZONTAL_RESOLUTION: 1.00000
SECONDARY_HORIZONTAL_DATUM: NAD27
XY_ORIGIN: 679992.00000 5215293.00000
SECONDARY_XY_ORIGIN: 680050.11200 5215078.65600
NATION: US
NATION: "SCIENCE
STATE: MT
NW_QUAD_CORNER_XY: 680346.42500 5214846.75400
NE_QUAD_CORNER_XY: 685092.18300 5214992.75300
SE_QUAD_CORNERY_XY: 685308.50800 5208047.75600
SW_QUAD_CORNER_XY: 680557.19700 5207901.73500
SECONDARY_NW_QUAD_XY: 680351.99100 5214628.27600
SECONDARY_NE_QUAD_XY: 685097.89600 5214774.28000
SECONDARY_SE_QUAD_XY: 685314.21900 5207829.31000
SECONDARY_SW_QUAD_XY: 680562.76200 5207683.28500
RMSE_XY: 1.50000
IMAGE_SOURCE: BLACK AND WHITE FILM
SOURCE_IMAGE_ID: NAPP 9138 200
SOURCE_IMAGE_DATE: 1996 08 23
SOURCE_DEM_DATE: 1982 00 00
AGENCY: WESTERN MAPPING CENTER (WMC)
PRODUCER: UNDEFINED
PRODUCTION_SYSTEM: GIS/MAGIC
COMPRESSION: UNDEFINED
STANDARD_VERSION: 1996 12
METADATA_DATE: 2000 11 14
DATA_FILE_SIZE: 43252982
BYTE_COUNT: 5618
