FILENAME: O4710861.SWS.1118241.tif
QUADRANGLE_NAME: LITTLE BEAR LAKE
QUADRANT: SW
WEST_LONGITUDE: -108 30 0.00000
EAST_LONGITUDE: -108 26 15.00000
NORTH_LATITUDE: 47 3 45.00000
SOUTH_LATITUDE: 47 0 0.00000
PRODUCTION_DATE: 2000 10 30
RASTER_ORDER: LEFT_RIGHT/TOP_BOTTOM
BAND_ORGANIZATION: SINGLE FILE
BAND_CONTENT: BLACK&WHITE
BAND_CONTENT: UNDEFINED
BAND_CONTENT: UNDEFINED
BITS_PER_PIXEL: 8
SAMPLES_AND_LINES: 5629 7706
HORIZONTAL_DATUM: NAD83
HORIZONTAL_COORDINATE_SYSTEM: UTM
COORDINATE_ZONE: 12
HORIZONTAL_UNITS: METERS
HORIZONTAL_RESOLUTION: 1.00000
SECONDARY_HORIZONTAL_DATUM: NAD27
XY_ORIGIN: 689484.00000 5215597.00000
SECONDARY_XY_ORIGIN: 689542.04200 5215382.45900
NATION: US
NATION: "SCIENCE
STATE: MT
NW_QUAD_CORNER_XY: 689837.92500 5215142.54800
NE_QUAD_CORNER_XY: 694583.65100 5215296.14000
SE_QUAD_CORNERY_XY: 694811.08200 5208351.18900
SW_QUAD_CORNER_XY: 690059.80300 5208197.57400
SECONDARY_NW_QUAD_XY: 689843.78400 5214924.07900
SECONDARY_NE_QUAD_XY: 694589.65700 5215077.67600
SECONDARY_SE_QUAD_XY: 694817.08700 5208132.75300
SECONDARY_SW_QUAD_XY: 690065.66100 5207979.13300
RMSE_XY: 1.00000
IMAGE_SOURCE: BLACK AND WHITE FILM
SOURCE_IMAGE_ID: NAPP 9137 192
SOURCE_IMAGE_DATE: 1996 08 23
SOURCE_DEM_DATE: 1975 00 00
AGENCY: WESTERN MAPPING CENTER (WMC)
PRODUCER: UNDEFINED
PRODUCTION_SYSTEM: GIS/MAGIC
COMPRESSION: UNDEFINED
STANDARD_VERSION: 1996 12
METADATA_DATE: 2000 11 14
DATA_FILE_SIZE: 43382703
BYTE_COUNT: 5629
