FILENAME: O4710862.SWS.1118253.tif
QUADRANGLE_NAME: WINNETT NORTH
QUADRANT: SW
WEST_LONGITUDE: -108 22 30.00000
EAST_LONGITUDE: -108 18 45.00000
NORTH_LATITUDE: 47 3 45.00000
SOUTH_LATITUDE: 47 0 0.00000
PRODUCTION_DATE: 2000 10 30
RASTER_ORDER: LEFT_RIGHT/TOP_BOTTOM
BAND_ORGANIZATION: SINGLE FILE
BAND_CONTENT: BLACK&WHITE
BAND_CONTENT: UNDEFINED
BAND_CONTENT: UNDEFINED
BITS_PER_PIXEL: 8
SAMPLES_AND_LINES: 5639 7713
HORIZONTAL_DATUM: NAD83
HORIZONTAL_COORDINATE_SYSTEM: UTM
COORDINATE_ZONE: 12
HORIZONTAL_UNITS: METERS
HORIZONTAL_RESOLUTION: 1.00000
SECONDARY_HORIZONTAL_DATUM: NAD27
XY_ORIGIN: 698976.00000 5215915.00000
SECONDARY_XY_ORIGIN: 699033.98800 5215700.24700
NATION: US
NATION: "SCIENCE
STATE: MT
NW_QUAD_CORNER_XY: 699329.36000 5215453.52800
NE_QUAD_CORNER_XY: 704075.05300 5215614.71400
SE_QUAD_CORNERY_XY: 704313.59200 5208669.81300
SW_QUAD_CORNER_XY: 699562.34500 5208508.60200
SECONDARY_NW_QUAD_XY: 699335.51300 5215235.06900
SECONDARY_NE_QUAD_XY: 704081.35100 5215396.26000
SECONDARY_SE_QUAD_XY: 704319.89000 5208451.38600
SECONDARY_SW_QUAD_XY: 699568.49700 5208290.17100
RMSE_XY: 1.90000
IMAGE_SOURCE: BLACK AND WHITE FILM
SOURCE_IMAGE_ID: NAPP 9137 046
SOURCE_IMAGE_DATE: 1996 08 23
SOURCE_DEM_DATE: 1986 00 00
AGENCY: WESTERN MAPPING CENTER (WMC)
PRODUCER: UNDEFINED
PRODUCTION_SYSTEM: GIS/MAGIC
COMPRESSION: UNDEFINED
STANDARD_VERSION: 1996 12
METADATA_DATE: 2000 11 14
DATA_FILE_SIZE: 43499246
BYTE_COUNT: 5639
