FILENAME: O4710863.SWS.1118278.tif
QUADRANGLE_NAME: INGALS DAM
QUADRANT: SW
WEST_LONGITUDE: -108 15 0.00000
EAST_LONGITUDE: -108 11 15.00000
NORTH_LATITUDE: 47 3 45.00000
SOUTH_LATITUDE: 47 0 0.00000
PRODUCTION_DATE: 2000 10 30
RASTER_ORDER: LEFT_RIGHT/TOP_BOTTOM
BAND_ORGANIZATION: SINGLE FILE
BAND_CONTENT: BLACK&WHITE
BAND_CONTENT: UNDEFINED
BAND_CONTENT: UNDEFINED
BITS_PER_PIXEL: 8
SAMPLES_AND_LINES: 5650 7720
HORIZONTAL_DATUM: NAD83
HORIZONTAL_COORDINATE_SYSTEM: UTM
COORDINATE_ZONE: 12
HORIZONTAL_UNITS: METERS
HORIZONTAL_RESOLUTION: 1.00000
SECONDARY_HORIZONTAL_DATUM: NAD27
XY_ORIGIN: 708468.00000 5216249.00000
SECONDARY_XY_ORIGIN: 708525.94100 5216034.02500
NATION: US
NATION: "SCIENCE
STATE: MT
NW_QUAD_CORNER_XY: 708820.72800 5215779.69800
NE_QUAD_CORNER_XY: 713566.38500 5215948.48000
SE_QUAD_CORNERY_XY: 713816.03500 5209003.62900
SW_QUAD_CORNER_XY: 709064.82200 5208834.82200
SECONDARY_NW_QUAD_XY: 708827.17300 5215561.24900
SECONDARY_NE_QUAD_XY: 713572.97700 5215730.03600
SECONDARY_SE_QUAD_XY: 713822.62600 5208785.21300
SECONDARY_SW_QUAD_XY: 709071.26600 5208616.40000
RMSE_XY: 2.60000
IMAGE_SOURCE: BLACK AND WHITE FILM
SOURCE_IMAGE_ID: NAPP 9146 011
SOURCE_IMAGE_DATE: 1996 08 24
SOURCE_IMAGE_ID: NAPP 9137 032
SOURCE_IMAGE_DATE: 1996 08 23
SOURCE_DEM_DATE: 1986 00 00
AGENCY: WESTERN MAPPING CENTER (WMC)
PRODUCER: UNDEFINED
PRODUCTION_SYSTEM: GIS/MAGIC
COMPRESSION: UNDEFINED
STANDARD_VERSION: 1996 12
METADATA_DATE: 2000 11 14
DATA_FILE_SIZE: 43623650
BYTE_COUNT: 5650
