FILENAME: O4710863.SES.1118277.tif
QUADRANGLE_NAME: INGALS DAM
QUADRANT: SE
WEST_LONGITUDE: -108 11 15.00000
EAST_LONGITUDE: -108 7 30.00000
NORTH_LATITUDE: 47 3 45.00000
SOUTH_LATITUDE: 47 0 0.00000
PRODUCTION_DATE: 2000 10 30
RASTER_ORDER: LEFT_RIGHT/TOP_BOTTOM
BAND_ORGANIZATION: SINGLE FILE
BAND_CONTENT: BLACK&WHITE
BAND_CONTENT: UNDEFINED
BAND_CONTENT: UNDEFINED
BITS_PER_PIXEL: 8
SAMPLES_AND_LINES: 5655 7725
HORIZONTAL_DATUM: NAD83
HORIZONTAL_COORDINATE_SYSTEM: UTM
COORDINATE_ZONE: 12
HORIZONTAL_UNITS: METERS
HORIZONTAL_RESOLUTION: 1.00000
SECONDARY_HORIZONTAL_DATUM: NAD27
XY_ORIGIN: 713214.00000 5216422.00000
SECONDARY_XY_ORIGIN: 713271.93400 5216207.02900
NATION: US
NATION: "SCIENCE
STATE: MT
NW_QUAD_CORNER_XY: 713566.38500 5215948.48000
NE_QUAD_CORNER_XY: 718312.02400 5216121.06000
SE_QUAD_CORNERY_XY: 718567.23000 5209176.23600
SW_QUAD_CORNER_XY: 713816.03500 5209003.62900
SECONDARY_NW_QUAD_XY: 713572.97700 5215730.03600
SECONDARY_NE_QUAD_XY: 718318.76200 5215902.62100
SECONDARY_SE_QUAD_XY: 718573.96700 5208957.82500
SECONDARY_SW_QUAD_XY: 713822.62600 5208785.21300
RMSE_XY: 3.70000
IMAGE_SOURCE: BLACK AND WHITE FILM
SOURCE_IMAGE_ID: NAPP 9143 071
SOURCE_IMAGE_DATE: 1996 08 24
SOURCE_DEM_DATE: 1986 00 00
AGENCY: WESTERN MAPPING CENTER (WMC)
PRODUCER: UNDEFINED
PRODUCTION_SYSTEM: GIS/MAGIC
COMPRESSION: UNDEFINED
STANDARD_VERSION: 1996 12
METADATA_DATE: 2000 11 14
DATA_FILE_SIZE: 43690530
BYTE_COUNT: 5655
