FILENAME: O4710703.NWS.1116647.tif
QUADRANGLE_NAME: SHEEP COULEE
QUADRANT: NW
WEST_LONGITUDE: -107 45 0.00000
EAST_LONGITUDE: -107 41 15.00000
NORTH_LATITUDE: 48 0 0.00000
SOUTH_LATITUDE: 47 56 15.00000
PRODUCTION_DATE: 2000 11 6
RASTER_ORDER: LEFT_RIGHT/TOP_BOTTOM
BAND_ORGANIZATION: SINGLE FILE
BAND_CONTENT: BLACK&WHITE
BAND_CONTENT: UNDEFINED
BAND_CONTENT: UNDEFINED
BITS_PER_PIXEL: 8
SAMPLES_AND_LINES: 5563 7715
HORIZONTAL_DATUM: NAD83
HORIZONTAL_COORDINATE_SYSTEM: UTM
COORDINATE_ZONE: 13
HORIZONTAL_UNITS: METERS
HORIZONTAL_RESOLUTION: 1.00000
SECONDARY_HORIZONTAL_DATUM: NAD27
XY_ORIGIN: 294271.00000 5320262.00000
SECONDARY_XY_ORIGIN: 294314.54700 5320041.82700
NATION: US
NATION: "SCIENCE
STATE: MT
NW_QUAD_CORNER_XY: 294870.52100 5319959.88200
NE_QUAD_CORNER_XY: 299532.19500 5319795.37300
SE_QUAD_CORNERY_XY: 299290.02100 5312849.58000
SW_QUAD_CORNER_XY: 294622.70800 5313014.12600
SECONDARY_NW_QUAD_XY: 294864.06500 5319741.11600
SECONDARY_NE_QUAD_XY: 299525.88600 5319576.60200
SECONDARY_SE_QUAD_XY: 299283.71200 5312630.82400
SECONDARY_SW_QUAD_XY: 294616.25200 5312795.37600
RMSE_XY: 0.90000
IMAGE_SOURCE: BLACK AND WHITE FILM
SOURCE_IMAGE_ID: NAPP 9131 199
SOURCE_IMAGE_DATE: 1996 07 29
SOURCE_DEM_DATE: 1965 00 00
AGENCY: WESTERN MAPPING CENTER (WMC)
PRODUCER: UNDEFINED
PRODUCTION_SYSTEM: GIS/MAGIC
COMPRESSION: UNDEFINED
STANDARD_VERSION: 1996 12
METADATA_DATE: 2000 11 15
DATA_FILE_SIZE: 42924108
BYTE_COUNT: 5563
