FILENAME: O4710705.SWS.1116745.tif
QUADRANGLE_NAME: WHITE HORSE COULEE
QUADRANT: SW
WEST_LONGITUDE: -107 30 0.00000
EAST_LONGITUDE: -107 26 15.00000
NORTH_LATITUDE: 47 56 15.00000
SOUTH_LATITUDE: 47 52 30.00000
PRODUCTION_DATE: 2000 11 14
RASTER_ORDER: LEFT_RIGHT/TOP_BOTTOM
BAND_ORGANIZATION: SINGLE FILE
BAND_CONTENT: BLACK&WHITE
BAND_CONTENT: UNDEFINED
BAND_CONTENT: UNDEFINED
BITS_PER_PIXEL: 8
SAMPLES_AND_LINES: 5545 7700
HORIZONTAL_DATUM: NAD83
HORIZONTAL_COORDINATE_SYSTEM: UTM
COORDINATE_ZONE: 13
HORIZONTAL_UNITS: METERS
HORIZONTAL_RESOLUTION: 1.00000
SECONDARY_HORIZONTAL_DATUM: NAD27
XY_ORIGIN: 312716.00000 5312681.00000
SECONDARY_XY_ORIGIN: 312759.54300 5312460.72300
NATION: US
NATION: "SCIENCE
STATE: MT
NW_QUAD_CORNER_XY: 313292.10600 5312378.66400
NE_QUAD_CORNER_XY: 317959.51300 5312229.26600
SE_QUAD_CORNERY_XY: 317740.10900 5305283.39500
SW_QUAD_CORNER_XY: 313067.07000 5305432.82700
SECONDARY_NW_QUAD_XY: 313286.23700 5312159.89400
SECONDARY_NE_QUAD_XY: 317953.79100 5312010.49100
SECONDARY_SE_QUAD_XY: 317734.38800 5305064.63600
SECONDARY_SW_QUAD_XY: 313061.20200 5305214.07300
RMSE_XY: 1.00000
IMAGE_SOURCE: BLACK AND WHITE FILM
SOURCE_IMAGE_ID: NAPP 9127 185
SOURCE_IMAGE_DATE: 1996 07 15
SOURCE_DEM_DATE: 1972 00 00
AGENCY: WESTERN MAPPING CENTER (WMC)
PRODUCER: UNDEFINED
PRODUCTION_SYSTEM: GIS/MAGIC
COMPRESSION: UNDEFINED
STANDARD_VERSION: 1996 12
METADATA_DATE: 2000 11 15
DATA_FILE_SIZE: 42702045
BYTE_COUNT: 5545
