FILENAME: O4710706.SWS.1114979.tif
QUADRANGLE_NAME: NILES COULEE
QUADRANT: SW
WEST_LONGITUDE: -107 22 30.00000
EAST_LONGITUDE: -107 18 45.00000
NORTH_LATITUDE: 47 56 15.00000
SOUTH_LATITUDE: 47 52 30.00000
PRODUCTION_DATE: 2000 11 10
RASTER_ORDER: LEFT_RIGHT/TOP_BOTTOM
BAND_ORGANIZATION: SINGLE FILE
BAND_CONTENT: BLACK&WHITE
BAND_CONTENT: UNDEFINED
BAND_CONTENT: UNDEFINED
BITS_PER_PIXEL: 8
SAMPLES_AND_LINES: 5533 7693
HORIZONTAL_DATUM: NAD83
HORIZONTAL_COORDINATE_SYSTEM: UTM
COORDINATE_ZONE: 13
HORIZONTAL_UNITS: METERS
HORIZONTAL_RESOLUTION: 1.00000
SECONDARY_HORIZONTAL_DATUM: NAD27
XY_ORIGIN: 322063.00000 5312386.00000
SECONDARY_XY_ORIGIN: 322106.23400 5312165.49300
NATION: US
NATION: "SCIENCE
STATE: MT
NW_QUAD_CORNER_XY: 322626.94300 5312083.65300
NE_QUAD_CORNER_XY: 327294.39400 5311941.82600
SE_QUAD_CORNERY_XY: 327086.25200 5304995.89300
SW_QUAD_CORNER_XY: 322413.17000 5305137.75100
SECONDARY_NW_QUAD_XY: 322621.36800 5311864.87400
SECONDARY_NE_QUAD_XY: 327288.96600 5311723.04200
SECONDARY_SE_QUAD_XY: 327080.82400 5304777.12500
SECONDARY_SW_QUAD_XY: 322407.59600 5304918.98700
RMSE_XY: 1.10000
IMAGE_SOURCE: BLACK AND WHITE FILM
SOURCE_IMAGE_ID: NAPP 9127 079
SOURCE_IMAGE_DATE: 1996 07 15
SOURCE_DEM_DATE: 1973 00 00
AGENCY: WESTERN MAPPING CENTER (WMC)
PRODUCER: UNDEFINED
PRODUCTION_SYSTEM: GIS/MAGIC
COMPRESSION: UNDEFINED
STANDARD_VERSION: 1996 12
METADATA_DATE: 2000 11 17
DATA_FILE_SIZE: 42570902
BYTE_COUNT: 5533
