FILENAME: O4710707.NES.1115012.tif
QUADRANGLE_NAME: TRIPLE CROSSING RESERVOIR WEST
QUADRANT: NE
WEST_LONGITUDE: -107 11 15.00000
EAST_LONGITUDE: -107 7 30.00000
NORTH_LATITUDE: 48 0 0.00000
SOUTH_LATITUDE: 47 56 15.00000
PRODUCTION_DATE: 2000 11 13
RASTER_ORDER: LEFT_RIGHT/TOP_BOTTOM
BAND_ORGANIZATION: SINGLE FILE
BAND_CONTENT: BLACK&WHITE
BAND_CONTENT: UNDEFINED
BAND_CONTENT: UNDEFINED
BITS_PER_PIXEL: 8
SAMPLES_AND_LINES: 5510 7681
HORIZONTAL_DATUM: NAD83
HORIZONTAL_COORDINATE_SYSTEM: UTM
COORDINATE_ZONE: 13
HORIZONTAL_UNITS: METERS
HORIZONTAL_RESOLUTION: 1.00000
SECONDARY_HORIZONTAL_DATUM: NAD27
XY_ORIGIN: 336280.00000 5318918.00000
SECONDARY_XY_ORIGIN: 336322.66700 5318697.19800
NATION: US
NATION: "SCIENCE
STATE: MT
NW_QUAD_CORNER_XY: 336826.43600 5318615.58800
NE_QUAD_CORNER_XY: 341488.31300 5318485.14600
SE_QUAD_CORNERY_XY: 341296.87100 5311539.05800
SW_QUAD_CORNER_XY: 336629.35900 5311669.52900
SECONDARY_NW_QUAD_XY: 336821.30000 5318396.78000
SECONDARY_NE_QUAD_XY: 341483.32400 5318266.33400
SECONDARY_SE_QUAD_XY: 341291.88300 5311320.26100
SECONDARY_SW_QUAD_XY: 336624.22400 5311450.73600
RMSE_XY: 0.90000
IMAGE_SOURCE: BLACK AND WHITE FILM
SOURCE_IMAGE_ID: NAPP 9101 210
SOURCE_IMAGE_DATE: 1996 07 15
SOURCE_DEM_DATE: 1973 00 00
AGENCY: WESTERN MAPPING CENTER (WMC)
PRODUCER: UNDEFINED
PRODUCTION_SYSTEM: GIS/MAGIC
COMPRESSION: UNDEFINED
STANDARD_VERSION: 1996 12
METADATA_DATE: 2000 11 17
DATA_FILE_SIZE: 42327820
BYTE_COUNT: 5510
