FILENAME: O4710708.NES.1112218.tif
QUADRANGLE_NAME: TRIPLE CROSSING RESERVOIR EAST
QUADRANT: NE
WEST_LONGITUDE: -107 3 45.00000
EAST_LONGITUDE: -107 0 0.00000
NORTH_LATITUDE: 48 0 0.00000
SOUTH_LATITUDE: 47 56 15.00000
PRODUCTION_DATE: 2000 11 14
RASTER_ORDER: LEFT_RIGHT/TOP_BOTTOM
BAND_ORGANIZATION: SINGLE FILE
BAND_CONTENT: BLACK&WHITE
BAND_CONTENT: UNDEFINED
BAND_CONTENT: UNDEFINED
BITS_PER_PIXEL: 8
SAMPLES_AND_LINES: 5498 7674
HORIZONTAL_DATUM: NAD83
HORIZONTAL_COORDINATE_SYSTEM: UTM
COORDINATE_ZONE: 13
HORIZONTAL_UNITS: METERS
HORIZONTAL_RESOLUTION: 1.00000
SECONDARY_HORIZONTAL_DATUM: NAD27
XY_ORIGIN: 345616.00000 5318661.00000
SECONDARY_XY_ORIGIN: 345658.25300 5318439.96000
NATION: US
NATION: "SCIENCE
STATE: MT
NW_QUAD_CORNER_XY: 346150.20900 5318358.48800
NE_QUAD_CORNER_XY: 350812.12500 5318235.61300
SE_QUAD_CORNERY_XY: 350631.95300 5311289.46900
SW_QUAD_CORNER_XY: 345964.40200 5311412.37100
SECONDARY_NW_QUAD_XY: 346145.36700 5318139.67200
SECONDARY_NE_QUAD_XY: 350807.43000 5318016.79400
SECONDARY_SE_QUAD_XY: 350627.25800 5311070.66500
SECONDARY_SW_QUAD_XY: 345959.56100 5311193.57100
RMSE_XY: 1.70000
IMAGE_SOURCE: BLACK AND WHITE FILM
SOURCE_IMAGE_ID: NAPP 9101 098
SOURCE_IMAGE_DATE: 1996 07 15
SOURCE_DEM_DATE: 1973 00 00
AGENCY: WESTERN MAPPING CENTER (WMC)
PRODUCER: UNDEFINED
PRODUCTION_SYSTEM: GIS/MAGIC
COMPRESSION: UNDEFINED
STANDARD_VERSION: 1996 12
METADATA_DATE: 2000 11 17
DATA_FILE_SIZE: 42197150
BYTE_COUNT: 5498
