FILENAME: O4710709.SES.1112636.tif
QUADRANGLE_NAME: DIONE RESERVOIR
QUADRANT: SE
WEST_LONGITUDE: -107 56 15.00000
EAST_LONGITUDE: -107 52 30.00000
NORTH_LATITUDE: 47 48 45.00000
SOUTH_LATITUDE: 47 45 0.00000
PRODUCTION_DATE: 2000 11 3
RASTER_ORDER: LEFT_RIGHT/TOP_BOTTOM
BAND_ORGANIZATION: SINGLE FILE
BAND_CONTENT: BLACK&WHITE
BAND_CONTENT: UNDEFINED
BAND_CONTENT: UNDEFINED
BITS_PER_PIXEL: 8
SAMPLES_AND_LINES: 5596 7726
HORIZONTAL_DATUM: NAD83
HORIZONTAL_COORDINATE_SYSTEM: UTM
COORDINATE_ZONE: 13
HORIZONTAL_UNITS: METERS
HORIZONTAL_RESOLUTION: 1.00000
SECONDARY_HORIZONTAL_DATUM: NAD27
XY_ORIGIN: 279476.00000 5299941.00000
SECONDARY_XY_ORIGIN: 279519.52300 5299720.70500
NATION: US
NATION: "SCIENCE
STATE: MT
NW_QUAD_CORNER_XY: 280092.23900 5299639.38200
NE_QUAD_CORNER_XY: 284770.74100 5299463.39500
SE_QUAD_CORNERY_XY: 284512.42000 5292517.88700
SW_QUAD_CORNER_XY: 279828.29400 5292693.91100
SECONDARY_NW_QUAD_XY: 280085.34400 5299420.68100
SECONDARY_NE_QUAD_XY: 284763.99300 5299244.68800
SECONDARY_SE_QUAD_XY: 284505.67200 5292299.19800
SECONDARY_SW_QUAD_XY: 279821.40000 5292475.22800
RMSE_XY: 0.80000
IMAGE_SOURCE: BLACK AND WHITE FILM
SOURCE_IMAGE_ID: NAPP 9132 103
SOURCE_IMAGE_DATE: 1996 07 29
SOURCE_DEM_DATE: 1965 00 00
AGENCY: WESTERN MAPPING CENTER (WMC)
PRODUCER: UNDEFINED
PRODUCTION_SYSTEM: GIS/MAGIC
COMPRESSION: UNDEFINED
STANDARD_VERSION: 1996 12
METADATA_DATE: 2000 11 15
DATA_FILE_SIZE: 43240292
BYTE_COUNT: 5596
