FILENAME: O4710711.SES.1116652.tif
QUADRANGLE_NAME: SUN PRAIRIE
QUADRANT: SE
WEST_LONGITUDE: -107 41 15.00000
EAST_LONGITUDE: -107 37 30.00000
NORTH_LATITUDE: 47 48 45.00000
SOUTH_LATITUDE: 47 45 0.00000
PRODUCTION_DATE: 2000 11 6
RASTER_ORDER: LEFT_RIGHT/TOP_BOTTOM
BAND_ORGANIZATION: SINGLE FILE
BAND_CONTENT: BLACK&WHITE
BAND_CONTENT: UNDEFINED
BAND_CONTENT: UNDEFINED
BITS_PER_PIXEL: 8
SAMPLES_AND_LINES: 5572 7711
HORIZONTAL_DATUM: NAD83
HORIZONTAL_COORDINATE_SYSTEM: UTM
COORDINATE_ZONE: 13
HORIZONTAL_UNITS: METERS
HORIZONTAL_RESOLUTION: 1.00000
SECONDARY_HORIZONTAL_DATUM: NAD27
XY_ORIGIN: 298214.00000 5299260.00000
SECONDARY_XY_ORIGIN: 298257.49600 5299039.71200
NATION: US
NATION: "SCIENCE
STATE: MT
NW_QUAD_CORNER_XY: 298806.39400 5298958.17200
NE_QUAD_CORNER_XY: 303484.99300 5298797.34300
SE_QUAD_CORNERY_XY: 303249.16200 5291851.69400
SW_QUAD_CORNER_XY: 298564.94200 5292012.55700
SECONDARY_NW_QUAD_XY: 298800.08600 5298739.45000
SECONDARY_NE_QUAD_XY: 303478.83200 5298578.61600
SECONDARY_SE_QUAD_XY: 303243.00200 5291632.98500
SECONDARY_SW_QUAD_XY: 298558.63500 5291793.85300
RMSE_XY: 1.40000
IMAGE_SOURCE: BLACK AND WHITE FILM
SOURCE_IMAGE_ID: NAPP 9131 102
SOURCE_IMAGE_DATE: 1996 07 29
SOURCE_DEM_DATE: 1965 00 00
AGENCY: WESTERN MAPPING CENTER (WMC)
PRODUCER: UNDEFINED
PRODUCTION_SYSTEM: GIS/MAGIC
COMPRESSION: UNDEFINED
STANDARD_VERSION: 1996 12
METADATA_DATE: 2000 11 15
DATA_FILE_SIZE: 42971264
BYTE_COUNT: 5572
