FILENAME: O4710712.NES.1116698.tif
QUADRANGLE_NAME: COAL MINE HILL
QUADRANT: NE
WEST_LONGITUDE: -107 33 45.00000
EAST_LONGITUDE: -107 30 0.00000
NORTH_LATITUDE: 47 52 30.00000
SOUTH_LATITUDE: 47 48 45.00000
PRODUCTION_DATE: 2000 11 14
RASTER_ORDER: LEFT_RIGHT/TOP_BOTTOM
BAND_ORGANIZATION: SINGLE FILE
BAND_CONTENT: BLACK&WHITE
BAND_CONTENT: UNDEFINED
BAND_CONTENT: UNDEFINED
BITS_PER_PIXEL: 8
SAMPLES_AND_LINES: 5556 7703
HORIZONTAL_DATUM: NAD83
HORIZONTAL_COORDINATE_SYSTEM: UTM
COORDINATE_ZONE: 13
HORIZONTAL_UNITS: METERS
HORIZONTAL_RESOLUTION: 1.00000
SECONDARY_HORIZONTAL_DATUM: NAD27
XY_ORIGIN: 307813.00000 5305888.00000
SECONDARY_XY_ORIGIN: 307856.51500 5305667.66500
NATION: US
NATION: "SCIENCE
STATE: MT
NW_QUAD_CORNER_XY: 308394.05300 5305586.04600
NE_QUAD_CORNER_XY: 313067.07000 5305432.82700
SE_QUAD_CORNERY_XY: 312842.25800 5298487.05100
SW_QUAD_CORNER_XY: 308163.61400 5298640.30300
SECONDARY_NW_QUAD_XY: 308388.03800 5305367.29600
SECONDARY_NE_QUAD_XY: 313061.20200 5305214.07300
SECONDARY_SE_QUAD_XY: 312836.39000 5298268.31400
SECONDARY_SW_QUAD_XY: 308157.60000 5298421.57000
RMSE_XY: 1.10000
IMAGE_SOURCE: BLACK AND WHITE FILM
SOURCE_IMAGE_ID: NAPP 9127 234
SOURCE_IMAGE_DATE: 1996 07 15
SOURCE_DEM_DATE: 1965 00 00
AGENCY: WESTERN MAPPING CENTER (WMC)
PRODUCER: UNDEFINED
PRODUCTION_SYSTEM: GIS/MAGIC
COMPRESSION: UNDEFINED
STANDARD_VERSION: 1996 12
METADATA_DATE: 2000 12 13
DATA_FILE_SIZE: 42803424
BYTE_COUNT: 5556
