FILENAME: O4710716.NES.1112222.tif
QUADRANGLE_NAME: MURRAY HILL
QUADRANT: NE
WEST_LONGITUDE: -107 3 45.00000
EAST_LONGITUDE: -107 0 0.00000
NORTH_LATITUDE: 47 52 30.00000
SOUTH_LATITUDE: 47 48 45.00000
PRODUCTION_DATE: 2000 11 14
RASTER_ORDER: LEFT_RIGHT/TOP_BOTTOM
BAND_ORGANIZATION: SINGLE FILE
BAND_CONTENT: BLACK&WHITE
BAND_CONTENT: UNDEFINED
BAND_CONTENT: UNDEFINED
BITS_PER_PIXEL: 8
SAMPLES_AND_LINES: 5509 7674
HORIZONTAL_DATUM: NAD83
HORIZONTAL_COORDINATE_SYSTEM: UTM
COORDINATE_ZONE: 13
HORIZONTAL_UNITS: METERS
HORIZONTAL_RESOLUTION: 1.00000
SECONDARY_HORIZONTAL_DATUM: NAD27
XY_ORIGIN: 345244.00000 5304769.00000
SECONDARY_XY_ORIGIN: 345286.48000 5304547.99300
NATION: US
NATION: "SCIENCE
STATE: MT
NW_QUAD_CORNER_XY: 345778.78000 5304466.32100
NE_QUAD_CORNER_XY: 350451.95900 5304343.39200
SE_QUAD_CORNERY_XY: 350272.14500 5297397.38200
SW_QUAD_CORNER_XY: 345593.34300 5297520.33700
SECONDARY_NW_QUAD_XY: 345773.93900 5304247.53700
SECONDARY_NE_QUAD_XY: 350447.26500 5304124.60400
SECONDARY_SE_QUAD_XY: 350267.45100 5297178.61000
SECONDARY_SW_QUAD_XY: 345588.50200 5297301.56900
RMSE_XY: 1.30000
IMAGE_SOURCE: BLACK AND WHITE FILM
SOURCE_IMAGE_ID: NAPP 9101 102
SOURCE_IMAGE_DATE: 1996 07 15
SOURCE_DEM_DATE: 1993 00 00
AGENCY: WESTERN MAPPING CENTER (WMC)
PRODUCER: UNDEFINED
PRODUCTION_SYSTEM: GIS/MAGIC
COMPRESSION: UNDEFINED
STANDARD_VERSION: 1996 12
METADATA_DATE: 2000 11 17
DATA_FILE_SIZE: 42281575
BYTE_COUNT: 5509
