FILENAME: O4710717.SWS.1112641.tif
QUADRANGLE_NAME: PEA RIDGE
QUADRANT: SW
WEST_LONGITUDE: -108 0 0.00000
EAST_LONGITUDE: -107 56 15.00000
NORTH_LATITUDE: 47 41 15.00000
SOUTH_LATITUDE: 47 37 30.00000
PRODUCTION_DATE: 2000 11 3
RASTER_ORDER: LEFT_RIGHT/TOP_BOTTOM
BAND_ORGANIZATION: SINGLE FILE
BAND_CONTENT: BLACK&WHITE
BAND_CONTENT: UNDEFINED
BAND_CONTENT: UNDEFINED
BITS_PER_PIXEL: 8
SAMPLES_AND_LINES: 5612 7729
HORIZONTAL_DATUM: NAD83
HORIZONTAL_COORDINATE_SYSTEM: UTM
COORDINATE_ZONE: 13
HORIZONTAL_UNITS: METERS
HORIZONTAL_RESOLUTION: 1.00000
SECONDARY_HORIZONTAL_DATUM: NAD27
XY_ORIGIN: 274254.00000 5286230.00000
SECONDARY_XY_ORIGIN: 274297.54200 5286009.69800
NATION: US
NATION: "SCIENCE
STATE: MT
NW_QUAD_CORNER_XY: 274874.89300 5285928.34900
NE_QUAD_CORNER_XY: 279564.61200 5285748.49600
SE_QUAD_CORNERY_XY: 279301.19400 5278803.13800
SW_QUAD_CORNER_XY: 274605.86100 5278983.02700
SECONDARY_NW_QUAD_XY: 274867.85200 5285709.69000
SECONDARY_NE_QUAD_XY: 279557.71900 5285529.83200
SECONDARY_SE_QUAD_XY: 279294.30100 5278584.49200
SECONDARY_SW_QUAD_XY: 274598.82200 5278764.38700
RMSE_XY: 1.80000
IMAGE_SOURCE: BLACK AND WHITE FILM
SOURCE_IMAGE_ID: NAPP 9132 189
SOURCE_IMAGE_DATE: 1996 07 29
SOURCE_DEM_DATE: 1964 00 00
AGENCY: WESTERN MAPPING CENTER (WMC)
PRODUCER: UNDEFINED
PRODUCTION_SYSTEM: GIS/MAGIC
COMPRESSION: UNDEFINED
STANDARD_VERSION: 1996 12
METADATA_DATE: 2000 11 15
DATA_FILE_SIZE: 43380760
BYTE_COUNT: 5612
