FILENAME: O4710718.SES.1112688.tif
QUADRANGLE_NAME: INDIAN LAKE
QUADRANT: SE
WEST_LONGITUDE: -107 48 45.00000
EAST_LONGITUDE: -107 45 0.00000
NORTH_LATITUDE: 47 41 15.00000
SOUTH_LATITUDE: 47 37 30.00000
PRODUCTION_DATE: 2000 11 6
RASTER_ORDER: LEFT_RIGHT/TOP_BOTTOM
BAND_ORGANIZATION: SINGLE FILE
BAND_CONTENT: BLACK&WHITE
BAND_CONTENT: UNDEFINED
BAND_CONTENT: UNDEFINED
BITS_PER_PIXEL: 8
SAMPLES_AND_LINES: 5595 7718
HORIZONTAL_DATUM: NAD83
HORIZONTAL_COORDINATE_SYSTEM: UTM
COORDINATE_ZONE: 13
HORIZONTAL_UNITS: METERS
HORIZONTAL_RESOLUTION: 1.00000
SECONDARY_HORIZONTAL_DATUM: NAD27
XY_ORIGIN: 288340.00000 5285702.00000
SECONDARY_XY_ORIGIN: 288383.49500 5285481.70100
NATION: US
NATION: "SCIENCE
STATE: MT
NW_QUAD_CORNER_XY: 288944.12400 5285400.16700
NE_QUAD_CORNER_XY: 293633.91600 5285231.68900
SE_QUAD_CORNERY_XY: 293387.33500 5278286.22600
SW_QUAD_CORNER_XY: 288691.93200 5278454.73800
SECONDARY_NW_QUAD_XY: 288937.52400 5285181.49100
SECONDARY_NE_QUAD_XY: 293627.46300 5285013.00800
SECONDARY_SE_QUAD_XY: 293380.88300 5278067.56400
SECONDARY_SW_QUAD_XY: 288685.33200 5278236.08100
RMSE_XY: 1.40000
IMAGE_SOURCE: BLACK AND WHITE FILM
SOURCE_IMAGE_ID: NAPP 9131 232
SOURCE_IMAGE_DATE: 1996 07 29
SOURCE_DEM_DATE: 1964 00 00
AGENCY: WESTERN MAPPING CENTER (WMC)
PRODUCER: UNDEFINED
PRODUCTION_SYSTEM: GIS/MAGIC
COMPRESSION: UNDEFINED
STANDARD_VERSION: 1996 12
METADATA_DATE: 2000 11 15
DATA_FILE_SIZE: 43187805
BYTE_COUNT: 5595
