FILENAME: O4710719.SWS.1116657.tif
QUADRANGLE_NAME: HERMAN POINT
QUADRANT: SW
WEST_LONGITUDE: -107 45 0.00000
EAST_LONGITUDE: -107 41 15.00000
NORTH_LATITUDE: 47 41 15.00000
SOUTH_LATITUDE: 47 37 30.00000
PRODUCTION_DATE: 2000 11 6
RASTER_ORDER: LEFT_RIGHT/TOP_BOTTOM
BAND_ORGANIZATION: SINGLE FILE
BAND_CONTENT: BLACK&WHITE
BAND_CONTENT: UNDEFINED
BAND_CONTENT: UNDEFINED
BITS_PER_PIXEL: 8
SAMPLES_AND_LINES: 5589 7715
HORIZONTAL_DATUM: NAD83
HORIZONTAL_COORDINATE_SYSTEM: UTM
COORDINATE_ZONE: 13
HORIZONTAL_UNITS: METERS
HORIZONTAL_RESOLUTION: 1.00000
SECONDARY_HORIZONTAL_DATUM: NAD27
XY_ORIGIN: 293036.00000 5285534.00000
SECONDARY_XY_ORIGIN: 293079.48000 5285313.70000
NATION: US
NATION: "SCIENCE
STATE: MT
NW_QUAD_CORNER_XY: 293633.91600 5285231.68900
NE_QUAD_CORNER_XY: 298323.73100 5285067.00200
SE_QUAD_CORNERY_XY: 298082.76100 5278121.50600
SW_QUAD_CORNER_XY: 293387.33500 5278286.22600
SECONDARY_NW_QUAD_XY: 293627.46300 5285013.00800
SECONDARY_NE_QUAD_XY: 298317.42400 5284848.31600
SECONDARY_SE_QUAD_XY: 298076.45500 5277902.83900
SECONDARY_SW_QUAD_XY: 293380.88300 5278067.56400
RMSE_XY: 2.50000
IMAGE_SOURCE: BLACK AND WHITE FILM
SOURCE_IMAGE_ID: NAPP 9131 189
SOURCE_IMAGE_DATE: 1996 07 29
SOURCE_DEM_DATE: 1964 00 00
AGENCY: WESTERN MAPPING CENTER (WMC)
PRODUCER: UNDEFINED
PRODUCTION_SYSTEM: GIS/MAGIC
COMPRESSION: UNDEFINED
STANDARD_VERSION: 1996 12
METADATA_DATE: 2000 11 15
DATA_FILE_SIZE: 43124724
BYTE_COUNT: 5589
