FILENAME: O4710719.NES.1116654.tif
QUADRANGLE_NAME: HERMAN POINT
QUADRANT: NE
WEST_LONGITUDE: -107 41 15.00000
EAST_LONGITUDE: -107 37 30.00000
NORTH_LATITUDE: 47 45 0.00000
SOUTH_LATITUDE: 47 41 15.00000
PRODUCTION_DATE: 2000 11 6
RASTER_ORDER: LEFT_RIGHT/TOP_BOTTOM
BAND_ORGANIZATION: SINGLE FILE
BAND_CONTENT: BLACK&WHITE
BAND_CONTENT: UNDEFINED
BAND_CONTENT: UNDEFINED
BITS_PER_PIXEL: 8
SAMPLES_AND_LINES: 5579 7711
HORIZONTAL_DATUM: NAD83
HORIZONTAL_COORDINATE_SYSTEM: UTM
COORDINATE_ZONE: 13
HORIZONTAL_UNITS: METERS
HORIZONTAL_RESOLUTION: 1.00000
SECONDARY_HORIZONTAL_DATUM: NAD27
XY_ORIGIN: 297972.00000 5292315.00000
SECONDARY_XY_ORIGIN: 298015.48100 5292094.66200
NATION: US
NATION: "SCIENCE
STATE: MT
NW_QUAD_CORNER_XY: 298564.94200 5292012.55700
NE_QUAD_CORNER_XY: 303249.16200 5291851.69400
SE_QUAD_CORNERY_XY: 303013.56800 5284906.10600
SW_QUAD_CORNER_XY: 298323.73100 5285067.00200
SECONDARY_NW_QUAD_XY: 298558.63500 5291793.85300
SECONDARY_NE_QUAD_XY: 303243.00200 5291632.98500
SECONDARY_SE_QUAD_XY: 303007.40800 5284687.41400
SECONDARY_SW_QUAD_XY: 298317.42400 5284848.31600
RMSE_XY: 1.80000
IMAGE_SOURCE: BLACK AND WHITE FILM
SOURCE_IMAGE_ID: NAPP 9131 104
SOURCE_IMAGE_DATE: 1996 07 29
SOURCE_DEM_DATE: 1964 00 00
AGENCY: WESTERN MAPPING CENTER (WMC)
PRODUCER: UNDEFINED
PRODUCTION_SYSTEM: GIS/MAGIC
COMPRESSION: UNDEFINED
STANDARD_VERSION: 1996 12
METADATA_DATE: 2000 11 15
DATA_FILE_SIZE: 43025248
BYTE_COUNT: 5579
